BEGIN:VCALENDAR
VERSION:2.0
PRODID:gruene-gp.de
METHOD:PUBLISH
BEGIN:VTIMEZONE
TZID:Europe/Berlin
X-LIC-LOCATION:Europe/Berlin
BEGIN:DAYLIGHT
TZOFFSETFROM:+0100
TZOFFSETTO:+0200
TZNAME:CEST
DTSTART:19700329T020000
RRULE:FREQ=YEARLY;INTERVAL=1;BYDAY=-1SU;BYMONTH=3
END:DAYLIGHT
BEGIN:STANDARD
TZOFFSETFROM:+0200
TZOFFSETTO:+0100
TZNAME:CET
DTSTART:19701025T030000
RRULE:FREQ=YEARLY;INTERVAL=1;BYDAY=-1SU;BYMONTH=10
END:STANDARD
END:VTIMEZONE
BEGIN:VEVENT
UID:09e21b700f23a8031a211711adcb8132@gruene-gp.de
URL;VALUE=URI:https://gruene-gp.de/blog/termine/1-mai-kundgebung-2023/
LOCATION:Schillerplatz, 73033 Göppingen
SUMMARY:1. Mai-Kundgebung 2023
DESCRIPTION;ALTREP="data:text/html,Die%20Welt%20ist%20im%20Krisen-Dauermo
 dus%3A%20Energiekrise%2C%20Klimakrise%2C%20der%20Krieg%20in%20der%20Ukrai
 ne%2C%20hohe%20Inflation%20und%20die%20Auswirkungen%20der%20Corona-Pandem
 ie%20erzeugen%20Unsicherheit%20und%20st%C3%BCrzen%20viele%20Menschen%20in
 %20existentielle%20Sorgen.%20Zusammen%20mit%20den%20Gewerkschaften%20steh
 t%20GewerkschaftsGr%C3%BCn%20an%20ihrer%20Seite.%20Gemeinsam%20setzen%20w
 ir%20am%20Tag%20der%20Arbeit%20ein%20sichtbares%20Zeichen%20f%C3%BCr%20ei
 ne%20gerechte%20und%20friedliche%20Zukunft%2C%20f%C3%BCr%20einen%20starke
 n%20Sozialstaat%20und%20eine%20leistungsf%C3%A4hige%20%C3%B6ffentliche%20
 Daseinsvorsorge.%0D%0AGemeinsam%20sind%20wir%20%3Cstrong%3E%3Cspan%20styl
 e%3D%22color%3A%20%23ff0000%22%3EUNGEBROCHEN%20SOLIDARISCH%21%3C%2Fspan%3
 E%3C%2Fstrong%3E%0D%0A%0D%0AUngebrochen%20solidarisch%3A%20%3Cspan%20styl
 e%3D%22color%3A%20%23ff0000%22%3EWeil%20wir%20gemeinsam%20mehr%20erreiche
 n%20k%C3%B6nnen%21%3C%2Fspan%3E%0D%0A%0D%0AUnser%C2%A0gemeinsamer%20Kampf
 %20f%C3%BCr%20Entlastung%C2%A0war%20erfolgreich.%20Die%20Energiepreisbrem
 se%20oder%20Einmalzahlungen%20an%20Besch%C3%A4ftigte%2C%20Rentner%2Ainnen
 %20und%20Studierende%20g%C3%A4be%20es%20ohne%20uns%20nicht.%20Mit%20der%2
 0Anhebung%20des%20gesetzlichen%C2%A0Mindestlohns%C2%A0auf%2012%20Euro%20u
 nd%20dem%C2%A0B%C3%BCrgergeld%C2%A0haben%20wir%20daf%C3%BCr%20gek%C3%A4mp
 ft%2C%20dass%20Menschen%20mit%20geringem%20Einkommen%20besser%20dastehen.
 %0D%0AGanz%20besonders%20aber%20haben%20die%20Gewerkschaften%20in%20viele
 n%C2%A0Tarifverhandlungen%C2%A0f%C3%BCr%20bessere%20Arbeitsbedingungen%20
 und%20mehr%20Geld%20im%20Portemonnaie%20von%20Millionen%20Besch%C3%A4ftig
 ten%20gesorgt.%0D%0A%0D%0AUngebrochen%20solidarisch%3A%20%3Cspan%20style%
 3D%22color%3A%20%23ff0000%22%3EDamit%20die%20Klima-%20und%20Energiewende%
 20zum%20Erfolg%20wird%21%3C%2Fspan%3E%0D%0A%0D%0AUm%20die%20Klimawende%20
 zum%20Erfolg%20zu%20machen%20und%20den%20Ausbau%20erneuerbarer%20Energien
 %20rasch%20voranzubringen%2C%20sind%20gewaltige%20%C3%B6ffentliche%20Inve
 stitionen%20erforderlich.%20Wenn%20Unternehmen%20davon%20profitieren%20wo
 llen%2C%20m%C3%BCssen%20sie%20sich%20auf%20die%20Sicherung%20von%20Besch%
 C3%A4ftigung%20verpflichten.%20Keine%20Standortvorteile%20ohne%20Standort
 treue.%20Das%20ist%20unsere%20Losung.%20Deutschland%20muss%20ein%20Parade
 beispiel%20f%C3%BCr%20eine%20nachhaltige%2C%20soziale%20und%20gerechte%20
 Transformation%20werden.%20Das%20bezieht%20mit%20ein%2C%20konsequent%20in
 %20die%20Qualifizierung%20und%20Weiterbildung%20der%20Besch%C3%A4ftigten%
 20zu%20investieren.%0D%0A%0D%0AUngebrochen%20solidarisch%3A%20%3Cspan%20s
 tyle%3D%22color%3A%20%23ff0000%22%3EDamit%20die%20Besch%C3%A4ftigten%20de
 n%20Wandel%20mitgestalten%20k%C3%B6nnen%21%3C%2Fspan%3E%0D%0A%0D%0AGute%2
 C%20existenzsichernde%20L%C3%B6hne%20und%20faire%20Arbeitsbedingungen%20g
 ibt%20es%20nur%20mit%C2%A0Tarifvertr%C3%A4gen.%20Sie%20sind%20der%20Schl%
 C3%BCssel%20f%C3%BCr%20einen%20fairen%20Wandel%20und%20bieten%20den%20bes
 ten%20Schutz%20vor%20Krisen.%20Deshalb%20fordern%20wir%20von%20der%20Bund
 esregierung%20einen%20Aktionsplan%20zur%20Steigerung%20der%20Tarifbindung
 %20auf%20mindestens%2080%20Prozent.%20Durch%20Tarifvertr%C3%A4ge%20und%C2
 %A0Mitbestimmung%C2%A0gestalten%20wir%20die%20Transformation%20demokratis
 ch.%20Statt%20%C3%BCber%20unsere%20K%C3%B6pfe%20hinweg%20muss%20auch%20am
 %20Arbeitsplatz%20mit%20den%20Gewerkschaften%20gemeinsam%20entschieden%20
 werden.%20Nur%20so%20kann%20ein%20gerechter%20Wandel%20gelingen.%0D%0A%0D
 %0AUngebrochen%20solidarisch%3A%20%3Cspan%20style%3D%22color%3A%20%23ff00
 00%22%3EDamit%20die%20Krise%20nicht%20auf%20dem%20R%C3%BCcken%20der%20Bes
 ch%C3%A4ftigten%20ausgetragen%20wird%21%3C%2Fspan%3E%0D%0A%0D%0ADie%20ste
 igenden%20Preise%20belasten%20die%20privaten%20Verbraucher%2Ainnen%20und%
 20viele%20Betriebe.%20Zugleich%20wachsen%20die%20Verm%C3%B6gen%20der%20Re
 ichsten%20ungebremst%20weiter.%20Einige%20Konzerne%20fahren%20%C3%BCberh%
 C3%B6hte%20Gewinne%20ein.%20Sie%20m%C3%BCssen%20abgesch%C3%B6pft%20und%20
 zur%20Gegenfinanzierung%20der%20Entlastungen%20genutzt%20werden.%20Superr
 eiche%20m%C3%BCssen%20endlich%20mehr%20Steuern%20zahlen%3B%20Menschen%20m
 it%20hohem%20Verm%C3%B6gen%20m%C3%BCssen%20eine%20Abgabe%20erbringen%20f%
 C3%BCr%20die%20historischen%20Herausforderungen%20unserer%20Gesellschaft.
 %20Wir%20fordern%20die%20Wiedereinf%C3%BChrung%20der%C2%A0Verm%C3%B6genst
 euer.%20Es%20darf%20nicht%20sein%2C%20dass%20die%20Hauptlasten%20der%20Kr
 ise%20den%20Besch%C3%A4ftigten%20aufgeb%C3%BCrdet%20werden%2C%20w%C3%A4hr
 end%20sich%20die%20Reichen%20aus%20der%20Verantwortung%20stehlen.%0D%0A%0
 D%0AUngebrochen%20solidarisch%3A%20%3Cspan%20style%3D%22color%3A%20%23ff0
 000%22%3EDamit%20wir%20in%20eine%20friedliche%20und%20sichere%20Zukunft%2
 0blicken%20k%C3%B6nnen%21%3C%2Fspan%3E%0D%0A%0D%0AMit%20seinem%20m%C3%B6r
 derischen%20Angriffskrieg%20auf%20die%C2%A0Ukraine%C2%A0hat%20Russland%20
 ein%20schweres%20Verbrechen%20gegen%20die%20Menschlichkeit%20und%20das%20
 V%C3%B6lkerrecht%20begangen.%20Die%20Waffen%20m%C3%BCssen%20endlich%20sch
 weigen%21%20Wir%20fordern%20die%20russische%20Regierung%20auf%2C%20ihre%2
 0Truppen%20zur%C3%BCckzuziehen%20und%20die%20territoriale%20Integrit%C3%A
 4t%20der%20Ukraine%20wiederherzustellen.%20Als%20Gewerkschaften%20treten%
 20wir%20f%C3%BCr%20weltweite%20kontrollierte%20Abr%C3%BCstung%2C%20f%C3%B
 Cr%20R%C3%BCstungskontrolle%20und%20f%C3%BCr%20die%20Verwirklichung%20von
 %20Frieden%20und%20Freiheit%20im%20Geiste%20der%20V%C3%B6lkerverst%C3%A4n
 digung%20ein.%0D%0A%0D%0A%3Cspan%20style%3D%22color%3A%20%23ff0000%22%3ED
 af%C3%BCr%20k%C3%A4mpfen%20wir%20%E2%80%93%20Am%201.%20Mai%20und%20an%20j
 edem%20anderen%20Tag%20im%20Jahr%3C%2Fspan%3E%0D%0A%0D%0AAm%20Tag%20der%2
 0Arbeit%20gehen%20wir%20darum%20auch%202023%20wieder%20weltweit%2C%20in%2
 0ganz%20Deutschland%20und%20auch%20in%20G%C3%B6ppingen%20auf%20die%20Stra
 %C3%9Fe%0D%0A%0D%0A%3Cu%3E%3Cstrong%3EAuf%20dem%20Schillerplatz%20in%20G%
 C3%B6ppingen%3C%2Fstrong%3E%20%3C%2Fu%3E%0D%0A%3Cstrong%3E09%3A30%20Uhr%2
 0Musik%20mit%20Fini%20and%20Friends%3C%2Fstrong%3E%0D%0A%3Cstrong%3E10%3A
 00%20Uhr%20Kundgebung%3C%2Fstrong%3E%0D%0A-%20Hauptredner%C2%A0Dominik%20
 Steiner%2C%20stellvertretender%20Kreisvorsitzender%20GEW%20Esslingen%0D%0
 A-%20Kaffee%20und%20Butterbrezeln%20gegen%20Spende%20am%20Stand%20der%20I
 G%20BCE%20Ortsgruppe%0D%0A%0D%0AVeranstalter%3A%20DGB-Kreisverband%20Essl
 ingen-G%C3%B6ppingen%0D%0A%0D%0AAb%2012%3A00%20Uhr%20Hocketse%0D%0A-%20am
 %20Naturfreundehaus%20auf%20der%20Immenreute%0D%0A%0D%0A%3Cem%3EMit%20sol
 idarischen%20Gr%C3%BC%C3%9Fen%0D%0A%3C%2Fem%3E%3Cem%3EMatthias%20Dreikluf
 t%3C%2Fem%3E%0D%0A%0D%0ASprecher%C2%A0GewerkschaftsGr%C3%BCn-Filstal%0D%0
 A%0D%0A%3Cimg%20class%3D%22%22%20src%3D%22https%3A%2F%2Fgruene-gp.de%2Fwp
 -content%2Fuploads%2F2023%2F04%2F1_Mai_Kundgebung_2.png%22%20width%3D%227
 06%22%20height%3D%22370%22%20%2F%3E%0D%0A%0D%0A%26nbsp%3B%0D%0A%0D%0A%26n
 bsp%3B%0D%0A%0D%0A%26nbsp%3B%0D%0A%0D%0A%26nbsp%3B":Die Welt ist im Krise
 n-Dauermodus: Energiekrise\, Klimakrise\, der Krieg in der Ukraine\, hohe
  Inflation und die Auswirkungen der Corona-Pandemie erzeugen Unsicherheit
  und stürzen viele Menschen in existentielle Sorgen. Zusammen mit den Ge
 werkschaften steht GewerkschaftsGrün an ihrer Seite. Gemeinsam setzen wi
 r am Tag der Arbeit ein sichtbares Zeichen für eine gerechte und friedli
 che Zukunft\, für einen starken Sozialstaat und eine leistungsfähige ö
 ffentliche Daseinsvorsorge.\n\nGemeinsam sind wir UNGEBROCHEN SOLIDARISCH
 !\n\nUngebrochen solidarisch: Weil wir gemeinsam mehr erreichen können!\
 n\nUnser gemeinsamer Kampf für Entlastung war erfolgreich. Die Energie
 preisbremse oder Einmalzahlungen an Beschäftigte\, Rentner*innen und Stu
 dierende gäbe es ohne uns nicht. Mit der Anhebung des gesetzlichen Mind
 estlohns auf 12 Euro und dem Bürgergeld haben wir dafür gekämpft\, 
 dass Menschen mit geringem Einkommen besser dastehen.\n\nGanz besonders a
 ber haben die Gewerkschaften in vielen Tarifverhandlungen für bessere 
 Arbeitsbedingungen und mehr Geld im Portemonnaie von Millionen Beschäfti
 gten gesorgt.\n\nUngebrochen solidarisch: Damit die Klima- und Energiewen
 de zum Erfolg wird!\n\nUm die Klimawende zum Erfolg zu machen und den Aus
 bau erneuerbarer Energien rasch voranzubringen\, sind gewaltige öffentli
 che Investitionen erforderlich. Wenn Unternehmen davon profitieren wollen
 \, müssen sie sich auf die Sicherung von Beschäftigung verpflichten. Ke
 ine Standortvorteile ohne Standorttreue. Das ist unsere Losung. Deutschla
 nd muss ein Paradebeispiel für eine nachhaltige\, soziale und gerechte T
 ransformation werden. Das bezieht mit ein\, konsequent in die Qualifizier
 ung und Weiterbildung der Beschäftigten zu investieren.\n\nUngebrochen s
 olidarisch: Damit die Beschäftigten den Wandel mitgestalten können!\n\n
 Gute\, existenzsichernde Löhne und faire Arbeitsbedingungen gibt es nur 
 mit Tarifverträgen. Sie sind der Schlüssel für einen fairen Wandel un
 d bieten den besten Schutz vor Krisen. Deshalb fordern wir von der Bundes
 regierung einen Aktionsplan zur Steigerung der Tarifbindung auf mindesten
 s 80 Prozent. Durch Tarifverträge und Mitbestimmung gestalten wir die 
 Transformation demokratisch. Statt über unsere Köpfe hinweg muss auch a
 m Arbeitsplatz mit den Gewerkschaften gemeinsam entschieden werden. Nur s
 o kann ein gerechter Wandel gelingen.\n\nUngebrochen solidarisch: Damit d
 ie Krise nicht auf dem Rücken der Beschäftigten ausgetragen wird!\n\nDi
 e steigenden Preise belasten die privaten Verbraucher*innen und viele Bet
 riebe. Zugleich wachsen die Vermögen der Reichsten ungebremst weiter. Ei
 nige Konzerne fahren überhöhte Gewinne ein. Sie müssen abgeschöpft un
 d zur Gegenfinanzierung der Entlastungen genutzt werden. Superreiche müs
 sen endlich mehr Steuern zahlen\; Menschen mit hohem Vermögen müssen ei
 ne Abgabe erbringen für die historischen Herausforderungen unserer Gesel
 lschaft. Wir fordern die Wiedereinführung der Vermögensteuer. Es darf 
 nicht sein\, dass die Hauptlasten der Krise den Beschäftigten aufgebürd
 et werden\, während sich die Reichen aus der Verantwortung stehlen.\n\nU
 ngebrochen solidarisch: Damit wir in eine friedliche und sichere Zukunft 
 blicken können!\n\nMit seinem mörderischen Angriffskrieg auf die Ukrai
 ne hat Russland ein schweres Verbrechen gegen die Menschlichkeit und das
  Völkerrecht begangen. Die Waffen müssen endlich schweigen! Wir fordern
  die russische Regierung auf\, ihre Truppen zurückzuziehen und die terri
 toriale Integrität der Ukraine wiederherzustellen. Als Gewerkschaften tr
 eten wir für weltweite kontrollierte Abrüstung\, für Rüstungskontroll
 e und für die Verwirklichung von Frieden und Freiheit im Geiste der Völ
 kerverständigung ein.\n\nDafür kämpfen wir – Am 1. Mai und an jedem 
 anderen Tag im Jahr\n\nAm Tag der Arbeit gehen wir darum auch 2023 wieder
  weltweit\, in ganz Deutschland und auch in Göppingen auf die Straße\n\
 nAuf dem Schillerplatz in Göppingen\n\n09:30 Uhr Musik mit Fini and Frie
 nds\n\n10:00 Uhr Kundgebung\n\n- Hauptredner Dominik Steiner\, stellvert
 retender Kreisvorsitzender GEW Esslingen\n\n- Kaffee und Butterbrezeln ge
 gen Spende am Stand der IG BCE Ortsgruppe\n\nVeranstalter: DGB-Kreisverba
 nd Esslingen-Göppingen\n\nAb 12:00 Uhr Hocketse\n\n- am Naturfreundehaus
  auf der Immenreute\n\nMit solidarischen Grüßen\n\nMatthias Dreikluft\n
 \nSprecher GewerkschaftsGrün-Filstal\n\n \n\n \n\n \n\n 
CLASS:PUBLIC
DTSTART;TZID=Europe/Berlin:20230501T093000
DTEND;TZID=Europe/Berlin:20230501T103000
DTSTAMP:20260419T142829
END:VEVENT
END:VCALENDAR