BEGIN:VCALENDAR
VERSION:2.0
PRODID:gruene-gp.de
METHOD:PUBLISH
BEGIN:VTIMEZONE
TZID:Europe/Berlin
X-LIC-LOCATION:Europe/Berlin
BEGIN:DAYLIGHT
TZOFFSETFROM:+0100
TZOFFSETTO:+0200
TZNAME:CEST
DTSTART:19700329T020000
RRULE:FREQ=YEARLY;INTERVAL=1;BYDAY=-1SU;BYMONTH=3
END:DAYLIGHT
BEGIN:STANDARD
TZOFFSETFROM:+0200
TZOFFSETTO:+0100
TZNAME:CET
DTSTART:19701025T030000
RRULE:FREQ=YEARLY;INTERVAL=1;BYDAY=-1SU;BYMONTH=10
END:STANDARD
END:VTIMEZONE
BEGIN:VEVENT
UID:085b0003a73cbb318b8bb023cbd1634f@gruene-gp.de
URL;VALUE=URI:https://gruene-gp.de/blog/termine/adfc-bikenight-2023/
LOCATION:Kornhausplatz in Göppingen bei der Stadtbücherei, 73033 Göppi
 ngen
SUMMARY:ADFC – BikeNight 2023
DESCRIPTION;ALTREP="data:text/html,%3Cdiv%20id%3D%22malwarebytes-root%22%
 20style%3D%22position%3A%20fixed%3Bz-index%3A%202147483647%3Bwidth%3A%201
 00%25%22%3E%3C%2Fdiv%3E%0D%0AFahr%20mit%20bei%20der%20ADFC%20-%20BikeNigh
 t%202023%20%21%0D%0AWir%20laden%20alle%20Radlerinnen%20und%20Radler%20zu%
 20unserer%20BikeNight%20ein%20unter%20dem%20Motto%20%23MehrPlatzF%C3%BCrs
 Rad%20%21%0D%0A%0D%0AUnsere%20schon%20traditionelle%20BikeNight%20wird%20
 wieder%20Treffpunkt%20aller%20Fahrradfreunde%20aus%20G%C3%B6ppingen%20und
 %20Umgebung%2C%20aus%20nah%20und%20fern.%20Unsere%20geschm%C3%BCckten%2C%
 20beleuchteten%20R%C3%A4der%20bringen%20uns%20in%20die%20richtige%20Stimm
 ung%2C%20der%20Sound%20auf%20mitgef%C3%BChrten%20Musikanlagen%20darf%20eb
 enso%20wenig%20fehlen%20wie%20der%20bunte%20Fahrzeugmix%3A%20ob%20moderne
 s%20E-Bike%20oder%20betagter%20Drahtesel%2C%20Mountainbike%2C%20Lasten-%2
 0oder%20Alltagsrad%20-%20Hauptsache%20es%20rollt%2C%20hat%20Licht%20und%2
 0ist%20auch%20sonst%20verkehrssicher.%0D%0AStart%20ist%20dieses%20Jahr%20
 am%20Kornhausplatz%20in%20G%C3%B6ppingen%20bei%20der%20Stadb%C3%BCcherei.
 %0D%0AWir%20fahren%20zuerst%20Richtung%20Reusch%20und%20bewegen%20uns%20d
 ort%20auch%20auf%20Stra%C3%9Fen%2C%20die%20vielleicht%20%2F%20hoffentlich
 %20zu%20Fahrradstra%C3%9Fen%20werden.%0D%0AWeiter%20geht%20es%20entlang%2
 0der%20bereits%20vom%20Landrat%20vorgestellten%20Radschnellroute%20im%20S
 tadtgebiet%20G%C3%B6ppingen%2C%20bevor%20wir%20auf%20Eislinger%20Gemarkun
 g%20wechseln.%0D%0ADort%20werden%20wir%20die%20%22Leuchtt%C3%BCrme%20im%2
 0Kreis%20G%C3%B6ppingen%22%20in%20Sachen%20Radverkehr%20ansteuern.%0D%0AW
 ir%20genie%C3%9Fen%20das%20entspannte%20Dahingleiten%20auf%20den%20zwei%2
 0schon%20l%C3%A4ngere%20Zeit%20eingerichteten%20Fahrradstra%C3%9Fen%2C%20
 fahren%20durch%20die%20Hauptstra%C3%9Fe%2C%20auf%20der%20das%20%C3%9Cberh
 olen%20von%20Radlern%20per%20Schild%20untersagt%20ist%20und%20k%C3%B6nnen
 %20auch%20den%20neuen%2C%20am%208.9.2023%20er%C3%B6ffneten%20Kreisel%20an
 %20der%20Hirschkreuzung%20mit%20den%20komfortablen%20Wegen%20f%C3%BCr%20R
 adler%20bewundern.%0D%0A%0D%0ADanach%20geht%20es%20wieder%20zur%C3%BCck%2
 0nach%20G%C3%B6ppingen%2C%20in%20die%20tiefste%20Radprovinz.%0D%0A%0D%0AN
 eben%20dem%20Spa%C3%9Ffaktor%20verfolgt%20die%20ADFC%20BikeNight%20ein%20
 ernsthaftes%20Ziel.%20Als%20angemeldete%20Demonstration%20macht%20sie%20s
 ich%20stark%20f%C3%BCr%20die%20Forderung%20%23MehrPlatzF%C3%BCrsRad.%0D%0
 AWir%20zeigen%2C%20welches%20Potential%20im%20Verkehrsmittel%20Fahrrad%20
 steckt%2C%20wenn%20sichere%2C%20gesch%C3%BCtzte%20Wege%20vorhanden%20w%C3
 %A4ren%20und%20die%20Menschen%20dadurch%20zum%20Radfahren%20animiert%20w%
 C3%BCrden.%20Gesch%C3%BCtzte%20und%20sichere%20Radwege%20gibt%20es%20in%2
 0G%C3%B6ppingen%20viel%20zu%20wenige.%0D%0ALaut%20Umfragen%20f%C3%BChlen%
 20sich%20%C3%BCber%2080%25%20aller%20Menschen%20mit%20dem%20Fahrrad%20auf
 %20der%20Stra%C3%9Fe%20unwohl%20und%20meiden%20deswegen%20das%20Radfahren
 %20in%20der%20Stadt.%20Die%20Entfernungen%20von%20G%C3%B6ppingen%20nach%2
 0Faurndau%20oder%20G%C3%B6ppingen%20nach%20Eislingen%20betragen%20auf%20e
 bener%20Strecke%20rund%205%20km%3B%20sie%20fallen%20also%20unter%20die%20
 sog.%20Kurzstrecken%2C%20die%20gut%20mit%20dem%20Rad%20zur%C3%BCckgelegt%
 20werden%20k%C3%B6nnen.%0D%0A%0D%0AWie%20bereits%20in%20den%20Jahren%20zu
 vor%20begleitet%20uns%20eine%20Polizeieskorte%20auf%20unserer%20Route%20u
 nd%20sorgt%20ebenso%20wie%20die%20ADFC-Ordner%20f%C3%BCr%20die%20Sicherhe
 it%20der%20Teilnehmerinnen%20und%20Teilnehmer.%0D%0A%0D%0AWann%3A%20Freit
 ag%2C%2029.9.2023%0D%0ATreffpunkt%3A%2019%20Uhr%20Kornhausplatz%20in%20G%
 C3%B6ppingen%20bei%20der%20Stadtb%C3%BCcherei%0D%0AStreckenl%C3%A4nge%20c
 a.%2024%20km%0D%0A%0D%0AGemeinsame%20Anfahrt%20zur%20BikeNight%0D%0A%0D%0
 AAus%20Richtung%20Lautertal%20Treffpunkt%20Zeit%0D%0ANenningen%20Alter%20
 Bahnhof%2017%3A25%20Uhr%0D%0ADonzdorf%20Alter%20Bahnhof%2017%3A45%20Uhr%0
 D%0AS%C3%BC%C3%9Fen%20Bahnhof%20bei%20Rep-Station%2018%3A00%20Uhr%0D%0ASa
 lach%20Albtraufcaf%C3%A8%20%E2%80%93%20Weberstra%C3%9Fe%207%2018%3A10%20U
 hr%0D%0A%0D%0Ahttps%3A%2F%2Ftouren-termine.adfc.de%2Fradveranstaltung%2F8
 7154-adfcbikenight-2023%0D%0A%0D%0A%3Cimg%20src%3D%22https%3A%2F%2Fgruene
 -gp.de%2Fwp-content%2Fuploads%2F2023%2F09%2FDownload.png%22%20%2F%3E%0D%0
 A%0D%0A%26nbsp%3B":Fahr mit bei der ADFC - BikeNight 2023 !\n\nWir laden 
 alle Radlerinnen und Radler zu unserer BikeNight ein unter dem Motto #Meh
 rPlatzFürsRad !\n\nUnsere schon traditionelle BikeNight wird wieder Tref
 fpunkt aller Fahrradfreunde aus Göppingen und Umgebung\, aus nah und fer
 n. Unsere geschmückten\, beleuchteten Räder bringen uns in die richtige
  Stimmung\, der Sound auf mitgeführten Musikanlagen darf ebenso wenig fe
 hlen wie der bunte Fahrzeugmix: ob modernes E-Bike oder betagter Drahtese
 l\, Mountainbike\, Lasten- oder Alltagsrad - Hauptsache es rollt\, hat Li
 cht und ist auch sonst verkehrssicher.\n\nStart ist dieses Jahr am Kornha
 usplatz in Göppingen bei der Stadbücherei.\n\nWir fahren zuerst Richtun
 g Reusch und bewegen uns dort auch auf Straßen\, die vielleicht / hoffen
 tlich zu Fahrradstraßen werden.\n\nWeiter geht es entlang der bereits vo
 m Landrat vorgestellten Radschnellroute im Stadtgebiet Göppingen\, bevor
  wir auf Eislinger Gemarkung wechseln.\n\nDort werden wir die "Leuchttür
 me im Kreis Göppingen" in Sachen Radverkehr ansteuern.\n\nWir genießen 
 das entspannte Dahingleiten auf den zwei schon längere Zeit eingerichtet
 en Fahrradstraßen\, fahren durch die Hauptstraße\, auf der das Überhol
 en von Radlern per Schild untersagt ist und können auch den neuen\, am 8
 .9.2023 eröffneten Kreisel an der Hirschkreuzung mit den komfortablen We
 gen für Radler bewundern.\n\nDanach geht es wieder zurück nach Göpping
 en\, in die tiefste Radprovinz.\n\nNeben dem Spaßfaktor verfolgt die ADF
 C BikeNight ein ernsthaftes Ziel. Als angemeldete Demonstration macht sie
  sich stark für die Forderung #MehrPlatzFürsRad.\n\nWir zeigen\, welche
 s Potential im Verkehrsmittel Fahrrad steckt\, wenn sichere\, geschützte
  Wege vorhanden wären und die Menschen dadurch zum Radfahren animiert w
 ürden. Geschützte und sichere Radwege gibt es in Göppingen viel zu wen
 ige.\n\nLaut Umfragen fühlen sich über 80% aller Menschen mit dem Fahrr
 ad auf der Straße unwohl und meiden deswegen das Radfahren in der Stadt.
  Die Entfernungen von Göppingen nach Faurndau oder Göppingen nach Eisli
 ngen betragen auf ebener Strecke rund 5 km\; sie fallen also unter die so
 g. Kurzstrecken\, die gut mit dem Rad zurückgelegt werden können.\n\nWi
 e bereits in den Jahren zuvor begleitet uns eine Polizeieskorte auf unser
 er Route und sorgt ebenso wie die ADFC-Ordner für die Sicherheit der Tei
 lnehmerinnen und Teilnehmer.\n\nWann: Freitag\, 29.9.2023\n\nTreffpunkt: 
 19 Uhr Kornhausplatz in Göppingen bei der Stadtbücherei\n\nStreckenlän
 ge ca. 24 km\n\nGemeinsame Anfahrt zur BikeNight\n\nAus Richtung Lauterta
 l Treffpunkt Zeit\n\nNenningen Alter Bahnhof 17:25 Uhr\n\nDonzdorf Alter 
 Bahnhof 17:45 Uhr\n\nSüßen Bahnhof bei Rep-Station 18:00 Uhr\n\nSalach 
 Albtraufcafè – Weberstraße 7 18:10 Uhr\n\nhttps://touren-termine.adfc
 .de/radveranstaltung/87154-adfcbikenight-2023\n\n 
CLASS:PUBLIC
DTSTART;TZID=Europe/Berlin:20230929T190000
DTEND;TZID=Europe/Berlin:20230929T200000
DTSTAMP:20260422T101556
END:VEVENT
END:VCALENDAR