BEGIN:VCALENDAR
VERSION:2.0
PRODID:gruene-gp.de
METHOD:PUBLISH
BEGIN:VTIMEZONE
TZID:Europe/Berlin
X-LIC-LOCATION:Europe/Berlin
BEGIN:DAYLIGHT
TZOFFSETFROM:+0100
TZOFFSETTO:+0200
TZNAME:CEST
DTSTART:19700329T020000
RRULE:FREQ=YEARLY;INTERVAL=1;BYDAY=-1SU;BYMONTH=3
END:DAYLIGHT
BEGIN:STANDARD
TZOFFSETFROM:+0200
TZOFFSETTO:+0100
TZNAME:CET
DTSTART:19701025T030000
RRULE:FREQ=YEARLY;INTERVAL=1;BYDAY=-1SU;BYMONTH=10
END:STANDARD
END:VTIMEZONE
BEGIN:VEVENT
UID:f8a475758a5a5c56a2a1fe1f04b5fffc@gruene-gp.de
URL;VALUE=URI:https://gruene-gp.de/blog/termine/bundesdelegiertenkonferen
 z/
LOCATION:RheinMain CongressCenter, Friedrich-Ebert-Allee 1, Wiesbaden
SUMMARY:Parteitag – 50. Bundesdelegiertenkonferenz
DESCRIPTION;ALTREP="data:text/html,%3Cb%3E%3Cu%3EDie%20Bundesdelegiertenk
 onferenz%20findet%20statt%20im%3A%0D%0A%3C%2Fu%3E%3C%2Fb%3ERheinMain%20Co
 ngressCenter%20in%20Wiesbaden%0D%0AFriedrich-Ebert-Allee%201%0D%0A65185%2
 0Wiesbaden%0D%0A%0D%0A%3Cstrong%3EWeitere%20Informationen%20zum%20Ablauf%
 20und%20zum%20Programm%20findet%20ihr%20%3C%2Fstrong%3E%3Ca%20href%3D%22h
 ttps%3A%2F%2Fwww.gruene.de%2Fartikel%2Fparteitag-2024%22%3E%3Cstrong%3Ehi
 er%3C%2Fstrong%3E%3C%2Fa%3E%0D%0A%0D%0A%26nbsp%3B%0D%0A%0D%0ABei%20der%20
 KMV%20am%2017.09.24%20in%20G%C3%B6ppingen%20wurden%20folgende%20Delegiert
 e%20und%20Ersatzdelegierte%20f%C3%BCr%20die%20Bundesdelegiertenkonferenz%
 20gew%C3%A4hlt%3A%0D%0A%0D%0A%3Cstrong%3EDelegierte%3C%2Fstrong%3E%0D%0A%
 3Cul%3E%0D%0A%20%09%3Cli%3EMariska%20Ott%3A%20%3Ca%20href%3D%22mailto%3Am
 ariska.ott%40gruene-gp.de%22%3Emariska.ott%40gruene-gp.de%3C%2Fa%3E%3C%2F
 li%3E%0D%0A%20%09%3Cli%3ETim%20Becker%3A%20%3Ca%20href%3D%22mailto%3Atim.
 becker%40gruene-gp.de%22%3Etim.becker%40gruene-gp.de%3C%2Fa%3E%3C%2Fli%3E
 %0D%0A%3C%2Ful%3E%0D%0A%3Cstrong%3EErsatzdelegierte%3C%2Fstrong%3E%0D%0A%
 3Cul%3E%0D%0A%20%09%3Cli%3EHannah%20St%C3%BCtz%3A%20%3Ca%20href%3D%22mail
 to%3Ah.stuetz2005%40gmail.co%22%3Eh.stuetz2005%40gmail.co%3C%2Fa%3Em%3C%2
 Fli%3E%0D%0A%20%09%3Cli%3ETobias%20Hocke%3A%20%3Ca%20href%3D%22mailto%3At
 obias.hocke%40gmail.com%22%3Etobias.hocke%40gmail.com%3C%2Fa%3E%3C%2Fli%3
 E%0D%0A%3C%2Ful%3E%0D%0ABei%20Fragen%20oder%20Anregungen%20k%C3%B6nnt%20i
 hr%20unsere%20Delegierten%20gerne%20kontaktieren.%0D%0A%0D%0A%26nbsp%3B%0
 D%0A%0D%0A%26nbsp%3B%0D%0A%0D%0A%3Cstrong%3EAllgemeine%20Infos%20zur%20Bu
 ndesdelegiertenkonferenz%20%28BDK%29%3A%3C%2Fstrong%3E%0D%0ADer%20Parteit
 ag%20auf%20Bundesebene%20ist%20die%20Bundesdelegiertenkonferenz%20oder%20
 kurz%20BDK.%20In%20unserer%20Satzung%20wird%20sie%20Bundesversammlung%20g
 enannt%2C%20aber%20BDK%20hat%20sich%20im%20normalen%20gr%C3%BCnen%20Sprac
 hgebrauch%20eingeb%C3%BCrgert.%20Sie%20findet%20mindestens%20einmal%20im%
 20Jahr%20statt.%20Auf%20der%20BDK%20kommen%20Delegierte%20der%20gesamten%
 20Partei%20zusammen%20und%20entscheiden%20%C3%BCber%20alle%20inhaltlichen
 %2C%20strategischen%2C%20personellen%20und%20finanziellen%20Grundsatzfrag
 en%20von%20B%C3%9CNDNIS%2090%2FDIE%20GR%C3%9CNEN.%20Die%20BDK%20beschlie%
 C3%9Ft%20unter%20anderem%20die%20Wahlprogramme%20zu%20Bundestags-%20und%2
 0Europawahlen.%20Alle%20zwei%20Jahre%20wird%20hier%20die%20Parteif%C3%BCh
 rung%20gew%C3%A4hlt.%20Auch%20die%20Kandidat%2Ainnen%20zur%20Europawahl%2
 0w%C3%A4hlt%20die%20BDK%2C%20w%C3%A4hrend%20die%20Bundestagslisten%20bei%
 20Landesparteitagen%20aufgestellt%20werden.%20Zudem%20wird%20hier%20der%2
 0Bundeshaushalt%20der%20Partei%20beschlossen.":Die Bundesdelegiertenkonfe
 renz findet statt im:\n\nRheinMain CongressCenter in Wiesbaden\n\nFriedri
 ch-Ebert-Allee 1\n\n65185 Wiesbaden\n\nWeitere Informationen zum Ablauf u
 nd zum Programm findet ihr hier\n\n \n\nBei der KMV am 17.09.24 in Göpp
 ingen wurden folgende Delegierte und Ersatzdelegierte für die Bundesdele
 giertenkonferenz gewählt:\n\nDelegierte\n\n 	Mariska Ott: mariska.ott@gr
 uene-gp.de\n\n 	Tim Becker: tim.becker@gruene-gp.de\n\nErsatzdelegierte\n
 \n 	Hannah Stütz: h.stuetz2005@gmail.com\n\n 	Tobias Hocke: tobias.hocke
 @gmail.com\n\nBei Fragen oder Anregungen könnt ihr unsere Delegierten ge
 rne kontaktieren.\n\n \n\n \n\nAllgemeine Infos zur Bundesdelegiertenko
 nferenz (BDK):\n\nDer Parteitag auf Bundesebene ist die Bundesdelegierten
 konferenz oder kurz BDK. In unserer Satzung wird sie Bundesversammlung ge
 nannt\, aber BDK hat sich im normalen grünen Sprachgebrauch eingebürger
 t. Sie findet mindestens einmal im Jahr statt. Auf der BDK kommen Delegie
 rte der gesamten Partei zusammen und entscheiden über alle inhaltlichen\
 , strategischen\, personellen und finanziellen Grundsatzfragen von BÜNDN
 IS 90/DIE GRÜNEN. Die BDK beschließt unter anderem die Wahlprogramme zu
  Bundestags- und Europawahlen. Alle zwei Jahre wird hier die Parteiführu
 ng gewählt. Auch die Kandidat*innen zur Europawahl wählt die BDK\, wäh
 rend die Bundestagslisten bei Landesparteitagen aufgestellt werden. Zudem
  wird hier der Bundeshaushalt der Partei beschlossen.
CLASS:PUBLIC
DTSTART;TZID=Europe/Berlin:20241115T170000
DTEND;TZID=Europe/Berlin:20241117T140000
DTSTAMP:20260421T100349
END:VEVENT
END:VCALENDAR