BEGIN:VCALENDAR
VERSION:2.0
PRODID:gruene-gp.de
METHOD:PUBLISH
BEGIN:VTIMEZONE
TZID:Europe/Berlin
X-LIC-LOCATION:Europe/Berlin
BEGIN:DAYLIGHT
TZOFFSETFROM:+0100
TZOFFSETTO:+0200
TZNAME:CEST
DTSTART:19700329T020000
RRULE:FREQ=YEARLY;INTERVAL=1;BYDAY=-1SU;BYMONTH=3
END:DAYLIGHT
BEGIN:STANDARD
TZOFFSETFROM:+0200
TZOFFSETTO:+0100
TZNAME:CET
DTSTART:19701025T030000
RRULE:FREQ=YEARLY;INTERVAL=1;BYDAY=-1SU;BYMONTH=10
END:STANDARD
END:VTIMEZONE
BEGIN:VEVENT
UID:fa220d94a8f1ec067a22da72c2513370@gruene-gp.de
URL;VALUE=URI:https://gruene-gp.de/blog/termine/crash-kurs-kommunalpoliti
 k/
LOCATION:Kirchstraße 11, 73033 Göppingen
SUMMARY:Crash-Kurs Kommunalpolitik
DESCRIPTION;ALTREP="data:text/html,N%C3%A4chste%20Woche%20ist%20es%20sowe
 it%3A%20Tim%20aus%20dem%20Landesvorstand%20wird%20zu%20uns%20nach%20G%C3%
 B6ppingen%20kommen%20und%20uns%20einen%20Crash-Kurs%20rund%20um%20die%20K
 ommunalpolitik%20geben.%0D%0A%0D%0AHierf%C3%BCr%20treffen%20wir%20uns%20a
 m%20Mittwoch%2C%203.%20Mai%202023%20um%2018%3A30%20Uhr%20im%20B%C3%BCrger
 haus%2C%20Kirchstra%C3%9Fe%2011%2073033%20G%C3%B6ppingen.%0D%0A%0D%0ALeit
 et%20die%20Einladung%20gerne%20an%20interessierte%20Menschen%20weiter.%0D
 %0A%0D%0AWir%20freuen%20uns%20auf%20euch%21%0D%0A%0D%0ALiebe%20Gr%C3%BC%C
 3%9Fe%0D%0ATim%20und%20Lena%0D%0A%0D%0A%26nbsp%3B":Nächste Woche ist es 
 soweit: Tim aus dem Landesvorstand wird zu uns nach Göppingen kommen und
  uns einen Crash-Kurs rund um die Kommunalpolitik geben.\n\nHierfür tref
 fen wir uns am Mittwoch\, 3. Mai 2023 um 18:30 Uhr im Bürgerhaus\, Kirch
 straße 11 73033 Göppingen.\n\nLeitet die Einladung gerne an interessier
 te Menschen weiter.\n\nWir freuen uns auf euch!\n\nLiebe Grüße\n\nTim u
 nd Lena\n\n 
CLASS:PUBLIC
DTSTART;TZID=Europe/Berlin:20230503T183000
DTEND;TZID=Europe/Berlin:20230503T193000
DTSTAMP:20260421T035837
END:VEVENT
END:VCALENDAR