BEGIN:VCALENDAR
VERSION:2.0
PRODID:gruene-gp.de
METHOD:PUBLISH
BEGIN:VTIMEZONE
TZID:Europe/Berlin
X-LIC-LOCATION:Europe/Berlin
BEGIN:DAYLIGHT
TZOFFSETFROM:+0100
TZOFFSETTO:+0200
TZNAME:CEST
DTSTART:19700329T020000
RRULE:FREQ=YEARLY;INTERVAL=1;BYDAY=-1SU;BYMONTH=3
END:DAYLIGHT
BEGIN:STANDARD
TZOFFSETFROM:+0200
TZOFFSETTO:+0100
TZNAME:CET
DTSTART:19701025T030000
RRULE:FREQ=YEARLY;INTERVAL=1;BYDAY=-1SU;BYMONTH=10
END:STANDARD
END:VTIMEZONE
BEGIN:VEVENT
UID:2d84cc5534920a053cb851fd45eab1ef@gruene-gp.de
URL;VALUE=URI:https://gruene-gp.de/blog/termine/donzdorf-und-photovoltaik
 /
LOCATION:Gasthof Becher, Schlossstraße 7, 73072 Donzdorf
SUMMARY:Donzdorf und Photovoltaik
DESCRIPTION;ALTREP="data:text/html,Fl%C3%A4chenphotovoltaik%2C%20Agri-Pho
 tovoltaik%2C%20Dach-%20oder%20Balkonphotovoltaik%20%E2%80%93%20wie%20l%C3
 %A4sst%20sich%20die%20Energieunabh%C3%A4ngigkeit%20von%20fossilen%20Brenn
 stoffen%20auch%20bei%20uns%20vor%20Ort%20schnellstm%C3%B6glich%20erreiche
 n%3F%20Wie%20steht%20es%20um%20die%20Wirtschaftlichkeit%20der%20verschied
 enen%20M%C3%B6glichkeiten%3F%20Wer%20muss%20wo%20wieviel%20investieren%3F
 %20Im%20Donzdorfer%20Gemeinderat%20werden%20diese%20Fragen%20diskutiert.%
 20Auch%20mit%20den%20B%C3%BCrgerinnen%20und%20B%C3%BCrgern%20wollen%20wir
 %2C%20Gemeinder%C3%A4tinnen%20und%20Gemeinder%C3%A4te%20von%20verschieden
 en%20Parteien%2C%20dar%C3%BCber%20ins%20Gespr%C3%A4ch%20kommen%2C%20welch
 e%20Art%20von%20Photovoltaik%20uns%20die%20zwei%20Ziele%20erreichen%20las
 sen%2C%20die%20auch%20f%C3%BCr%20unsere%20Kinder%20und%20Kindeskinder%20e
 ine%20entscheidende%20Rolle%20spielen%3A%20eine%20unabh%C3%A4ngige%20Ener
 gieversorgung%20und%20einen%20wichtigen%20Beitrag%20zum%20Stopp%20der%20K
 limaerw%C3%A4rmung%20mit%20ihren%20katastrophalen%20Auswirkungen.%0D%0A%0
 D%0AWir%20laden%20daher%20herzlich%20ein%20zu%20der%20Veranstaltung%0D%0A
 %0D%0A%3Cstrong%3E%E2%80%9EDonzdorf%20und%20Photovoltaik%E2%80%9C%3C%2Fst
 rong%3E%0D%0A%0D%0A%3Cstrong%3Eam%20Donnerstag%2C%206.%20Oktober%202022%0
 D%0A%3C%2Fstrong%3E%3Cstrong%3Eum%2019.30%20Uhr%20im%20Gasthof%20%E2%80%9
 EBecher%E2%80%9C%2C%20Schlossstra%C3%9Fe%207%2C%2073072%20Donzdorf%C2%A0%
 20%3C%2Fstrong%3E%0D%0A%0D%0Amit%20folgendem%20%3Cstrong%3EProgramm%3A%20
 %3C%2Fstrong%3E%0D%0A%0D%0A%3Cstrong%3E19.30%20h%3C%2Fstrong%3E%20Begr%C3
 %BC%C3%9Fung%20%3Cstrong%3EMichael%20Wiesner%3C%2Fstrong%3E%20vom%20Vorst
 and%20des%20Ortsverbands%20Mittleres%20Fils-%20und%20Lautertal%20B%C3%BCn
 dnis%2090%2FDIE%20GR%C3%9CNEN%0D%0A%3Cstrong%3E19.45%20h%20%3C%2Fstrong%3
 EEingangsstatement%20zum%20Thema%3A%20B%C3%BCrgermeister%20%3Cstrong%3EMa
 rtin%20St%C3%B6lzle%0D%0A%3C%2Fstrong%3E%3Cstrong%3E%3Cu%3EPodium%20mit%2
 0Informationen%20von%0D%0A%3C%2Fu%3E%3C%2Fstrong%3E%3Cstrong%3E20.00%20h%
 3C%2Fstrong%3E%20%3Cstrong%3EMoritz%20Gajewski%3C%2Fstrong%3E%2C%20Fraunh
 ofer%20Institut%20f%C3%BCr%20Solare%20Energiesysteme%20ISE%20Freiburg%20%
 28online%20zugeschaltet%29%2C%20Einf%C3%BChrung%20in%20die%20Agri-PV%20un
 d%20ein%C2%A0%C3%9Cberblick%20zu%20laufenden%20Forschungsprojekten.%0D%0A
 %3Cstrong%3E20.30%20h%3C%2Fstrong%3E%20%3Cstrong%3EWolfgang%20Amann%3C%2F
 strong%3E%2C%20Albwerk%20Geislingen%2C%20Technische%20Rahmenbedingungen%2
 0f%C3%BCr%20den%20PV-Ausbau%20%28geeignete%20D%C3%A4cher%2C%20Garagen%2C%
 20Carports%2C%20Balkone%2C%20sonstige%20Fl%C3%A4chen%2C%20Ausrichtung%2C%
 20Wirkungsgrad%20Module%2FAnlage%2C%20Stromertrag%2C%20Akkus%2C%20Autarki
 e%2C%20Amortisierung%29%0D%0A%3Cstrong%3E20.40%20h%3C%2Fstrong%3E%20%3Cst
 rong%3EDominik%20Seck%3C%2Fstrong%3E%20von%20der%20Energieagentur%20des%2
 0Landkreises.%20Rechtliche%20Gesichtspunkte%20f%C3%BCr%20den%20PV-Ausbau%
 20%28Anmeldung%2C%20Einspeiseverg%C3%BCtung%2C%20Abregelung%29%0D%0A%3Cst
 rong%3E20.50%20h%3C%2Fstrong%3E%20%3Cstrong%3EHerbert%20Fitterling%3C%2Fs
 trong%3E%20von%20der%20B%C3%BCrgerenergiegenossenschaft%20Mittlere%20Fils
 .%20Aktivit%C3%A4ten%20und%20Beteiligungsm%C3%B6glichkeiten%20an%20der%20
 Genossenschaft%0D%0A%3Cstrong%3E21%20h%3C%2Fstrong%3E%20%C2%A0%C2%A0Frage
 n%20und%20Diskussion%0D%0A%3Cem%3EModeration%20von%20Podium%20und%20Frage
 n-%20und%20Diskussionsrunde%3A%20%3C%2Fem%3E%3Cstrong%3E%3Cem%3EKathinka%
 20Kaden%3C%2Fem%3E%3C%2Fstrong%3E%3Cem%3E%20vom%20Vorstand%20des%20Ortsve
 rbandes%20Mittleres%20Fils-%20und%20Lautertal%20B%C3%BCndnis%2090%2FDIE%2
 0GR%C3%9CNEN%0D%0A%3C%2Fem%3E%3Cstrong%3E21.30%20h%3C%2Fstrong%3E%20Verab
 schiedung":Flächenphotovoltaik\, Agri-Photovoltaik\, Dach- oder Balkonph
 otovoltaik – wie lässt sich die Energieunabhängigkeit von fossilen Br
 ennstoffen auch bei uns vor Ort schnellstmöglich erreichen? Wie steht es
  um die Wirtschaftlichkeit der verschiedenen Möglichkeiten? Wer muss wo 
 wieviel investieren? Im Donzdorfer Gemeinderat werden diese Fragen diskut
 iert. Auch mit den Bürgerinnen und Bürgern wollen wir\, Gemeinderätinn
 en und Gemeinderäte von verschiedenen Parteien\, darüber ins Gespräch 
 kommen\, welche Art von Photovoltaik uns die zwei Ziele erreichen lassen\
 , die auch für unsere Kinder und Kindeskinder eine entscheidende Rolle s
 pielen: eine unabhängige Energieversorgung und einen wichtigen Beitrag z
 um Stopp der Klimaerwärmung mit ihren katastrophalen Auswirkungen.\n\nWi
 r laden daher herzlich ein zu der Veranstaltung\n\n„Donzdorf und Photov
 oltaik“\n\nam Donnerstag\, 6. Oktober 2022\n\num 19.30 Uhr im Gasthof 
 „Becher“\, Schlossstraße 7\, 73072 Donzdorf \n\nmit folgendem Progr
 amm:\n\n19.30 h Begrüßung Michael Wiesner vom Vorstand des Ortsverbands
  Mittleres Fils- und Lautertal Bündnis 90/DIE GRÜNEN\n\n19.45 h Eingang
 sstatement zum Thema: Bürgermeister Martin Stölzle\n\nPodium mit Inform
 ationen von\n\n20.00 h Moritz Gajewski\, Fraunhofer Institut für Solare 
 Energiesysteme ISE Freiburg (online zugeschaltet)\, Einführung in die Ag
 ri-PV und ein Überblick zu laufenden Forschungsprojekten.\n\n20.30 h Wo
 lfgang Amann\, Albwerk Geislingen\, Technische Rahmenbedingungen für den
  PV-Ausbau (geeignete Dächer\, Garagen\, Carports\, Balkone\, sonstige F
 lächen\, Ausrichtung\, Wirkungsgrad Module/Anlage\, Stromertrag\, Akkus\
 , Autarkie\, Amortisierung)\n\n20.40 h Dominik Seck von der Energieagentu
 r des Landkreises. Rechtliche Gesichtspunkte für den PV-Ausbau (Anmeldun
 g\, Einspeisevergütung\, Abregelung)\n\n20.50 h Herbert Fitterling von d
 er Bürgerenergiegenossenschaft Mittlere Fils. Aktivitäten und Beteiligu
 ngsmöglichkeiten an der Genossenschaft\n\n21 h   Fragen und Diskussion
 \n\nModeration von Podium und Fragen- und Diskussionsrunde: Kathinka Kade
 n vom Vorstand des Ortsverbandes Mittleres Fils- und Lautertal Bündnis 9
 0/DIE GRÜNEN\n\n21.30 h Verabschiedung
CLASS:PUBLIC
DTSTART;TZID=Europe/Berlin:20221006T193000
DTEND;TZID=Europe/Berlin:20221006T213000
DTSTAMP:20260421T100349
END:VEVENT
END:VCALENDAR