BEGIN:VCALENDAR
VERSION:2.0
PRODID:gruene-gp.de
METHOD:PUBLISH
BEGIN:VTIMEZONE
TZID:Europe/Berlin
X-LIC-LOCATION:Europe/Berlin
BEGIN:DAYLIGHT
TZOFFSETFROM:+0100
TZOFFSETTO:+0200
TZNAME:CEST
DTSTART:19700329T020000
RRULE:FREQ=YEARLY;INTERVAL=1;BYDAY=-1SU;BYMONTH=3
END:DAYLIGHT
BEGIN:STANDARD
TZOFFSETFROM:+0200
TZOFFSETTO:+0100
TZNAME:CET
DTSTART:19701025T030000
RRULE:FREQ=YEARLY;INTERVAL=1;BYDAY=-1SU;BYMONTH=10
END:STANDARD
END:VTIMEZONE
BEGIN:VEVENT
UID:7c6cc17eeef7ce8502c3da37da059a24@gruene-gp.de
URL;VALUE=URI:https://gruene-gp.de/blog/termine/einladung-zur-ortsmitglie
 derversammlung-ov-goeppingen/
LOCATION:Reader´s Irish Pub,, Kirchstr. 25, 73033 Göppingen
SUMMARY:Mitgliederversammlung OV Göppingen
DESCRIPTION;ALTREP="data:text/html,%0A%3Cp%3E%3Cbr%3ELiebe%20Mitglieder%2
 0des%20Ortsverbands%20G%C3%B6ppingen%2C%3Cbr%3E%3Cbr%3Ewir%20laden%20euch
 %20herzlich%20ein%20zur%20Ortsmitgliederversammlung%3Cbr%3E%3Cbr%3E%3Cstr
 ong%3Eam%20Mittwoch%2C%20den%2015.10.2025%20um%2019%3A30%20Uhr%20in%20den
 %3Cbr%3EReader%C2%B4s%20Irish%20Pub%2C%3Cbr%3EKirchstr.%2025%2C%2073033%2
 0G%C3%B6ppingen.%3C%2Fstrong%3E%3C%2Fp%3E%0A%0A%0A%0A%3Cp%3EVorschlag%20z
 ur%20Tagesordnung%3C%2Fp%3E%0A%0A%0A%0A%3Cul%20class%3D%22wp-block-list%2
 2%3E%0A%3Cli%3EBegr%C3%BC%C3%9Fung%20und%20Beschluss%20der%20Tagesordnung
 %2C%20Feststellung%3Cbr%3Eder%20Beschlussf%C3%A4higkeit%3C%2Fli%3E%0A%0A%
 0A%0A%3Cli%3EBericht%20aus%20dem%20Vorstand%3C%2Fli%3E%0A%0A%0A%0A%3Cli%3
 EBericht%20des%20Schatzmeisters%3C%2Fli%3E%0A%0A%0A%0A%3Cli%3EBericht%20a
 us%20dem%20Kreistag%3C%2Fli%3E%0A%0A%0A%0A%3Cli%3EBericht%20aus%20dem%20G
 emeinderat%3C%2Fli%3E%0A%0A%0A%0A%3Cli%3Eaktuelles%20zur%20LTW%3C%2Fli%3E
 %0A%0A%0A%0A%3Cli%3EWahlen%3A%3C%2Fli%3E%0A%0A%0A%0A%3Cli%3EWahlleitung%3
 C%2Fli%3E%0A%0A%0A%0A%3Cli%3EVorsitz%20offen%3C%2Fli%3E%0A%0A%0A%0A%3Cli%
 3EVorsitz%20Frauenplatz%3C%2Fli%3E%0A%0A%0A%0A%3Cli%3ESchatzmeister%3C%2F
 li%3E%0A%0A%0A%0A%3Cli%3EBeisitz%202%20offen%3C%2Fli%3E%0A%0A%0A%0A%3Cli%
 3EBeisitz%202%20Frauen%3Cbr%3Eoffene%20Aussprache%3Cbr%3EVerabschiedung%3
 Cbr%3E%3C%2Fli%3E%0A%3C%2Ful%3E%0A%0A%0A%0A%3Cdiv%20style%3D%22height%3A5
 5px%22%20aria-hidden%3D%22true%22%20class%3D%22wp-block-spacer%22%3E%3C%2
 Fdiv%3E%0A%0A%0A%0A%3Cpre%20class%3D%22wp-block-preformatted%22%3EMit%20f
 reundlichen%20Gr%C3%BC%C3%9Fen%0ANina%20Goldmann%20%26amp%3B%20Friederike
 %20Fuchs%0AOrtsvorsitzende%3C%2Fpre%3E%0A%0A%0A%0A%3Cp%3E%3C%2Fp%3E%0A":L
 iebe Mitglieder des Ortsverbands Göppingen\,wir laden euch herzlich ein 
 zur Ortsmitgliederversammlungam Mittwoch\, den 15.10.2025 um 19:30 Uhr in
  denReader´s Irish Pub\,Kirchstr. 25\, 73033 Göppingen.\n\nVorschlag zu
 r Tagesordnung\n\nBegrüßung und Beschluss der Tagesordnung\, Feststellu
 ngder Beschlussfähigkeit\n\nBericht aus dem Vorstand\n\nBericht des Scha
 tzmeisters\n\nBericht aus dem Kreistag\n\nBericht aus dem Gemeinderat\n\n
 aktuelles zur LTW\n\nWahlen:\n\nWahlleitung\n\nVorsitz offen\n\nVorsitz F
 rauenplatz\n\nSchatzmeister\n\nBeisitz 2 offen\n\nBeisitz 2 Frauenoffene 
 AusspracheVerabschiedung\n\nMit freundlichen Grüßen\n\nNina Goldmann & 
 Friederike Fuchs\n\nOrtsvorsitzende
CLASS:PUBLIC
DTSTART;TZID=Europe/Berlin:20251015T193000
DTEND;TZID=Europe/Berlin:20251015T203000
DTSTAMP:20260421T103133
END:VEVENT
END:VCALENDAR