BEGIN:VCALENDAR
VERSION:2.0
PRODID:gruene-gp.de
METHOD:PUBLISH
BEGIN:VTIMEZONE
TZID:Europe/Berlin
X-LIC-LOCATION:Europe/Berlin
BEGIN:DAYLIGHT
TZOFFSETFROM:+0100
TZOFFSETTO:+0200
TZNAME:CEST
DTSTART:19700329T020000
RRULE:FREQ=YEARLY;INTERVAL=1;BYDAY=-1SU;BYMONTH=3
END:DAYLIGHT
BEGIN:STANDARD
TZOFFSETFROM:+0200
TZOFFSETTO:+0100
TZNAME:CET
DTSTART:19701025T030000
RRULE:FREQ=YEARLY;INTERVAL=1;BYDAY=-1SU;BYMONTH=10
END:STANDARD
END:VTIMEZONE
BEGIN:VEVENT
UID:6f63272f91974a5f904c61787c4f99ae@gruene-gp.de
URL;VALUE=URI:https://gruene-gp.de/blog/termine/kinofilm-zur-gemeinwohloe
 konomie-hinterm-deich-wir-alles-gut/
LOCATION:Staufen Kino, Göppingen
SUMMARY:Kinofilm zur Gemeinwohlökonomie: Hinterm Deich wird alles gut
DESCRIPTION;ALTREP="data:text/html,Filmtipp%3A%0D%0A%0D%0AAm%20Mittwoch%2
 C%20den%2018.%20Mai%20um%2020%3A00%20Uhr%20zeigt%20das%20Open%20End%20Kin
 o%20in%20Kooperation%20mit%20der%20GW%C3%96%20Regionalgruppe%20G%C3%B6ppi
 ngen%20im%20Staufen%20Kino%20G%C3%B6ppingen%0D%0Aden%20Film%20%3Cstrong%3
 E%22Hinterm%20Deich%20wird%20alles%20gut%22.%3C%2Fstrong%3E%0D%0A%0D%0A%3
 Ca%20href%3D%22http%3A%2F%2Fopenendkinogoeppingen.de%2Fhinterm-deich-wird
 -alles-gut%2F%22%3Ehttp%3A%2F%2Fopenendkinogoeppingen.de%2Fhinterm-deich-
 wird-alles-gut%2F%3C%2Fa%3E%0D%0A%0D%0ADer%20Film%20zeigt%20den%20Weg%20v
 on%20drei%20Gemeinden%20in%20Nordfriesland%20zur%20Gemeinwohlzertifzierun
 g.%0D%0A%0D%0A%26nbsp%3B%0D%0A%0D%0AReinhard%20B%C3%BCchner%20GW%C3%96%20
 Regionalgruppe%20G%C3%B6ppingen%0D%0Ac%2Fo%20Angela%20Zahn%20Kirchstra%C3
 %9Fe%2019%0D%0A73033%20G%C3%B6ppingen%0D%0A%3Ca%20href%3D%22mailto%3Agoep
 pingen%40ecogood.org%22%3Egoeppingen%40ecogood.org%3C%2Fa%3E%0D%0A%0D%0A%
 3Cimg%20class%3D%22%22%20src%3D%22https%3A%2F%2Fgruene-gp.de%2Fwp-content
 %2Fuploads%2F2022%2F02%2Flogo_LC_DE_Goeppingen_color_WEB-002.png%22%20wid
 th%3D%22375%22%20height%3D%22184%22%20%2F%3E%0D%0A%0D%0A%26nbsp%3B":Filmt
 ipp:\n\nAm Mittwoch\, den 18. Mai um 20:00 Uhr zeigt das Open End Kino in
  Kooperation mit der GWÖ Regionalgruppe Göppingen im Staufen Kino Göpp
 ingen\n\nden Film "Hinterm Deich wird alles gut".\n\nhttp://openendkinogo
 eppingen.de/hinterm-deich-wird-alles-gut/\n\nDer Film zeigt den Weg von d
 rei Gemeinden in Nordfriesland zur Gemeinwohlzertifzierung.\n\n \n\nRein
 hard Büchner GWÖ Regionalgruppe Göppingen\n\nc/o Angela Zahn Kirchstra
 ße 19\n\n73033 Göppingen\n\ngoeppingen@ecogood.org\n\n 
CLASS:PUBLIC
DTSTART;TZID=Europe/Berlin:20220518T200000
DTEND;TZID=Europe/Berlin:20220518T210000
DTSTAMP:20260419T145411
END:VEVENT
END:VCALENDAR