BEGIN:VCALENDAR
VERSION:2.0
PRODID:gruene-gp.de
METHOD:PUBLISH
BEGIN:VTIMEZONE
TZID:Europe/Berlin
X-LIC-LOCATION:Europe/Berlin
BEGIN:DAYLIGHT
TZOFFSETFROM:+0100
TZOFFSETTO:+0200
TZNAME:CEST
DTSTART:19700329T020000
RRULE:FREQ=YEARLY;INTERVAL=1;BYDAY=-1SU;BYMONTH=3
END:DAYLIGHT
BEGIN:STANDARD
TZOFFSETFROM:+0200
TZOFFSETTO:+0100
TZNAME:CET
DTSTART:19701025T030000
RRULE:FREQ=YEARLY;INTERVAL=1;BYDAY=-1SU;BYMONTH=10
END:STANDARD
END:VTIMEZONE
BEGIN:VEVENT
UID:e95f31758895c70887febdc52f023f2e@gruene-gp.de
URL;VALUE=URI:https://gruene-gp.de/blog/termine/kreismitgliederversammlun
 g-13/
LOCATION:
SUMMARY:Kreismitgliederversammlung
DESCRIPTION;ALTREP="data:text/html,%0A%3Cp%3E%3C%2Fp%3E%0A%0A%0A%0A%3Cp%2
 0id%3D%22block-6eb70beb-3caf-4267-963c-3caf8c2172b2%22%3EDer%20Veranstalt
 ungsort%20wird%20noch%20bekannt%20gegeben.%3Cbr%3EAlle%20Kreisverbandsmit
 glieder%20erhalten%20fristgerecht%20eine%20Einladung%20mit%20der%20Tageso
 rdnung.%3C%2Fp%3E%0A":Der Veranstaltungsort wird noch bekannt gegeben.All
 e Kreisverbandsmitglieder erhalten fristgerecht eine Einladung mit der Ta
 gesordnung.
CLASS:PUBLIC
DTSTART;TZID=Europe/Berlin:20251126T190000
DTEND;TZID=Europe/Berlin:20251126T200000
DTSTAMP:20260421T101608
END:VEVENT
END:VCALENDAR