BEGIN:VCALENDAR
VERSION:2.0
PRODID:gruene-gp.de
METHOD:PUBLISH
BEGIN:VTIMEZONE
TZID:Europe/Berlin
X-LIC-LOCATION:Europe/Berlin
BEGIN:DAYLIGHT
TZOFFSETFROM:+0100
TZOFFSETTO:+0200
TZNAME:CEST
DTSTART:19700329T020000
RRULE:FREQ=YEARLY;INTERVAL=1;BYDAY=-1SU;BYMONTH=3
END:DAYLIGHT
BEGIN:STANDARD
TZOFFSETFROM:+0200
TZOFFSETTO:+0100
TZNAME:CET
DTSTART:19701025T030000
RRULE:FREQ=YEARLY;INTERVAL=1;BYDAY=-1SU;BYMONTH=10
END:STANDARD
END:VTIMEZONE
BEGIN:VEVENT
UID:3a42491002839f6387442d732a1b7100@gruene-gp.de
URL;VALUE=URI:https://gruene-gp.de/blog/termine/kreismitgliederversammlun
 g-9/
LOCATION:
SUMMARY:Kreismitgliederversammlung
DESCRIPTION;ALTREP="data:text/html,Der%20Veranstaltungsort%20wird%20noch%
 20bekannt%20gegeben.%0D%0AAlle%20Mitglieder%20des%20Kreisverbands%20erhal
 ten%20fristgerecht%20eine%20Einladung%20mit%20der%20Tagesordnung.":Der Ve
 ranstaltungsort wird noch bekannt gegeben.\n\nAlle Mitglieder des Kreisve
 rbands erhalten fristgerecht eine Einladung mit der Tagesordnung.
CLASS:PUBLIC
DTSTART;TZID=Europe/Berlin:20240618T193000
DTEND;TZID=Europe/Berlin:20240618T203000
DTSTAMP:20260421T095753
END:VEVENT
END:VCALENDAR