BEGIN:VCALENDAR
VERSION:2.0
PRODID:gruene-gp.de
METHOD:PUBLISH
BEGIN:VTIMEZONE
TZID:Europe/Berlin
X-LIC-LOCATION:Europe/Berlin
BEGIN:DAYLIGHT
TZOFFSETFROM:+0100
TZOFFSETTO:+0200
TZNAME:CEST
DTSTART:19700329T020000
RRULE:FREQ=YEARLY;INTERVAL=1;BYDAY=-1SU;BYMONTH=3
END:DAYLIGHT
BEGIN:STANDARD
TZOFFSETFROM:+0200
TZOFFSETTO:+0100
TZNAME:CET
DTSTART:19701025T030000
RRULE:FREQ=YEARLY;INTERVAL=1;BYDAY=-1SU;BYMONTH=10
END:STANDARD
END:VTIMEZONE
BEGIN:VEVENT
UID:7bf0d3a1cceb15d2e564dd0b4cafc72e@gruene-gp.de
URL;VALUE=URI:https://gruene-gp.de/blog/termine/landesdelegierten-konfere
 nz-in-offenburg/
LOCATION:Offenburg
SUMMARY:Landesdelegierten – konferenz in Offenburg
DESCRIPTION;ALTREP="data:text/html,%0A%3Cp%3E%3C%2Fp%3E%0A%0A%0A%0A%3Cp%3
 ELandesdelegiertenkonferenz%20%28LDK%29%20vom%2017.-18.%20Oktober%202026%
 20in%20Offenburg.%3C%2Fp%3E%0A%0A%0A%0A%3Cp%3EWeitere%20Informationen%20f
 olgen.%3C%2Fp%3E%0A%0A%0A%0A%3Cp%3EBei%20der%20KMV%20am%2024.03.26%20in%2
 0G%C3%B6ppingen%20wurden%20folgende%20Delegierte%20und%20Ersatzdelegierte
 %20f%C3%BCr%20die%20Landesdelegiertenkonferenz%20gew%C3%A4hlt%3A%3C%2Fp%3
 E%0A%0A%0A%0A%3Cp%3E%3Cstrong%3EDelegierte%3C%2Fstrong%3E%3C%2Fp%3E%0A%0A
 %0A%0A%3Cul%20class%3D%22wp-block-list%22%3E%0A%3Cli%3EElke%20Thumm%3A%26
 nbsp%3B%3Ca%20href%3D%22mailto%3Aelke.thumm%40gruene-gp.de%22%3Eelke.thum
 m%40gruene-gp.de%3C%2Fa%3E%3C%2Fli%3E%0A%0A%0A%0A%3Cli%3EKatharina%20Sch%
 C3%BCtze%3A%20%3Ca%20href%3D%22mailto%3Ad-k-schuetze%40arcor.de%22%3Ed-k-
 schuetze%40arcor.de%3C%2Fa%3E%3C%2Fli%3E%0A%0A%0A%0A%3Cli%3EMoritz%20Fran
 z-Gerstein%3A%20%3Ca%20href%3D%22mailto%3Amoritz.franz-gerstein%40gurene-
 gp.de%22%3Emoritz.franz-gerstein%40gurene-gp.de%3C%2Fa%3E%3Cbr%3E%3C%2Fli
 %3E%0A%3C%2Ful%3E%0A%0A%0A%0A%3Cp%3E%3Cstrong%3EErsatzdelegierte%3C%2Fstr
 ong%3E%3C%2Fp%3E%0A%0A%0A%0A%3Cul%20class%3D%22wp-block-list%22%3E%0A%3Cl
 i%3EMariska%20Ott%3A%20%3Ca%20href%3D%22mailto%3Amariska.ott%40gruene-gp.
 de%22%3Emariska.ott%40gruene-gp.de%3C%2Fa%3E%3C%2Fli%3E%0A%0A%0A%0A%3Cli%
 3EMelanie%20Weber%3A%20%3Ca%20href%3D%22mailto%3Amelanie.weber%40gruene-g
 p.de%22%3Emelanie.weber%40gruene-gp.de%3C%2Fa%3E%3C%2Fli%3E%0A%0A%0A%0A%3
 Cli%3ESebastian%20B%C3%BCrzele%3A%20%3Ca%20href%3D%22mailto%3Asebastian.b
 uerzele%40outlook.com%22%3Esebastian.buerzele%40outlook.com%3C%2Fa%3E%3C%
 2Fli%3E%0A%3C%2Ful%3E%0A%0A%0A%0A%3Cp%3EBei%20Fragen%20oder%20Anregungen%
 20k%C3%B6nnt%20ihr%20unsere%20Delegierten%20gerne%20kontaktieren.%3Cbr%3E
 %3C%2Fp%3E%0A%0A%0A%0A%3Cp%3E%3Cstrong%3EAllgemeine%20Informationen%20zur
 %20LDK%3Cbr%3E%3C%2Fstrong%3EDie%26nbsp%3B%3Cstrong%3ELandesdelegiertenko
 nferenz%20%28LDK%29%3C%2Fstrong%3E%26nbsp%3B%E2%80%93%20der%20Landesparte
 itag%20%E2%80%93%20ist%20das%20oberste%20Organ%20des%20Landesverbandes%20
 und%20findet%20in%20allen%20L%C3%A4ndern%20mindestens%20einmal%20im%20Jah
 r%20statt.%20Diese%20Versammlung%20ist%20das%20wichtigste%20Entscheidungs
 gremium%20der%20Landesverb%C3%A4nde.%20Hier%20werden%20politische%20Entsc
 heidungen%20f%C3%BCr%20die%20Landespolitik%20getroffen%2C%20Landtagswahlp
 rogramme%20beschlossen%20und%20Landesvorst%C3%A4nde%20gew%C3%A4hlt.%20Auc
 h%20die%20Kandidat%2Ainnen%20f%C3%BCr%20die%20Bundestagswahl%20wie%20auch
 %20f%C3%BCr%20Landtagswahlen%20werden%20hier%20gew%C3%A4hlt.%20Die%20Krei
 sverb%C3%A4nde%20entsenden%20entsprechender%20ihrer%20Mitgliedsanzahl%20D
 elegierte%2C%20die%20auf%20den%20LDKen%20dann%20abstimmen%20d%C3%BCrfen.%
 3C%2Fp%3E%0A%0A%0A%0A%3Cp%3E%3C%2Fp%3E%0A":Landesdelegiertenkonferenz (LD
 K) vom 17.-18. Oktober 2026 in Offenburg.\n\nWeitere Informationen folgen
 .\n\nBei der KMV am 24.03.26 in Göppingen wurden folgende Delegierte und
  Ersatzdelegierte für die Landesdelegiertenkonferenz gewählt:\n\nDelegi
 erte\n\nElke Thumm: elke.thumm@gruene-gp.de\n\nKatharina Schütze: d-k-s
 chuetze@arcor.de\n\nMoritz Franz-Gerstein: moritz.franz-gerstein@gurene-g
 p.de\n\nErsatzdelegierte\n\nMariska Ott: mariska.ott@gruene-gp.de\n\nMela
 nie Weber: melanie.weber@gruene-gp.de\n\nSebastian Bürzele: sebastian.bu
 erzele@outlook.com\n\nBei Fragen oder Anregungen könnt ihr unsere Delegi
 erten gerne kontaktieren.\n\nAllgemeine Informationen zur LDKDie Landesd
 elegiertenkonferenz (LDK) – der Landesparteitag – ist das oberste Or
 gan des Landesverbandes und findet in allen Ländern mindestens einmal im
  Jahr statt. Diese Versammlung ist das wichtigste Entscheidungsgremium de
 r Landesverbände. Hier werden politische Entscheidungen für die Landesp
 olitik getroffen\, Landtagswahlprogramme beschlossen und Landesvorstände
  gewählt. Auch die Kandidat*innen für die Bundestagswahl wie auch für 
 Landtagswahlen werden hier gewählt. Die Kreisverbände entsenden entspre
 chender ihrer Mitgliedsanzahl Delegierte\, die auf den LDKen dann abstimm
 en dürfen.
CLASS:PUBLIC
DTSTART;TZID=Europe/Berlin:20261017T000000
DTEND;TZID=Europe/Berlin:20261018T000000
DTSTAMP:20260421T013619
END:VEVENT
END:VCALENDAR