BEGIN:VCALENDAR
VERSION:2.0
PRODID:gruene-gp.de
METHOD:PUBLISH
BEGIN:VTIMEZONE
TZID:Europe/Berlin
X-LIC-LOCATION:Europe/Berlin
BEGIN:DAYLIGHT
TZOFFSETFROM:+0100
TZOFFSETTO:+0200
TZNAME:CEST
DTSTART:19700329T020000
RRULE:FREQ=YEARLY;INTERVAL=1;BYDAY=-1SU;BYMONTH=3
END:DAYLIGHT
BEGIN:STANDARD
TZOFFSETFROM:+0200
TZOFFSETTO:+0100
TZNAME:CET
DTSTART:19701025T030000
RRULE:FREQ=YEARLY;INTERVAL=1;BYDAY=-1SU;BYMONTH=10
END:STANDARD
END:VTIMEZONE
BEGIN:VEVENT
UID:7035d397de235fd712812b48b71b18ce@gruene-gp.de
URL;VALUE=URI:https://gruene-gp.de/blog/termine/landesdelegierten-konfere
 nz-in-stuttgart/
LOCATION:Stuttgart
SUMMARY:Landesdelegierten – konferenz in Stuttgart
DESCRIPTION;ALTREP="data:text/html,%0A%3Cp%3E%3C%2Fp%3E%0A%0A%0A%0A%3Cp%3
 ELandesdelegiertenkonferenz%20%28LDK%29%20am%2009.%20Mai%202026%20in%20St
 uttgart.%3Cbr%3EWeitere%20Informationen%20folgen.%3C%2Fp%3E%0A%0A%0A%0A%3
 Cp%3E%3C%2Fp%3E%0A%0A%0A%0A%3Cp%3EBei%20der%20KMV%20am%2024.03.26%20in%20
 G%C3%B6ppingen%20wurden%20folgende%20Delegierte%20und%20Ersatzdelegierte%
 20f%C3%BCr%20die%20Landesdelegiertenkonferenz%20gew%C3%A4hlt%3A%3C%2Fp%3E
 %0A%0A%0A%0A%3Cp%3E%3Cstrong%3EDelegierte%3C%2Fstrong%3E%3C%2Fp%3E%0A%0A%
 0A%0A%3Cul%20class%3D%22wp-block-list%22%3E%0A%3Cli%3EMariska%20Ott%3A%20
 %3Ca%20href%3D%22https%3A%2F%2Fgruene-gp.de%2Fblog%2Ftermine%2Fparteitag-
 landesdelegiertenkonferenz%2F%23%22%3Emariska.ott%40gruene-gp.de%3C%2Fa%3
 E%3C%2Fli%3E%0A%0A%0A%0A%3Cli%3EHanna%20Straub%3A%20%3Ca%20href%3D%22mail
 to%3Ahanna.straub%40gruene-gp.de%22%3Ehanna.straub%40gruene-gp.de%3C%2Fa%
 3E%3C%2Fli%3E%0A%0A%0A%0A%3Cli%3EJulian%20Beier%3A%20%3Ca%20href%3D%22mai
 lto%3Ajulian.beier%40gruene-gp.de%22%3Ejulian.beier%40gruene-gp.de%3C%2Fa
 %3E%3Cbr%3E%3C%2Fli%3E%0A%3C%2Ful%3E%0A%0A%0A%0A%3Cp%3E%3Cstrong%3EErsatz
 delegierte%3C%2Fstrong%3E%3C%2Fp%3E%0A%0A%0A%0A%3Cul%20class%3D%22wp-bloc
 k-list%22%3E%0A%3Cli%3EMelanie%20Weber%3A%20%3Ca%20href%3D%22mailto%3Amel
 anie.weber%40gruene-gp.de%22%3Emelanie.weber%40gruene-gp.de%3C%2Fa%3E%3C%
 2Fli%3E%0A%0A%0A%0A%3Cli%3EKatharina%20Sch%C3%BCtze%3A%20%3Ca%20href%3D%2
 2mailto%3Ad-k-schuetze%40arcor.de%22%3Ed-k-schuetze%40arcor.de%3C%2Fa%3E%
 3C%2Fli%3E%0A%0A%0A%0A%3Cli%3EElke%20Thumm%3A%C2%A0%3Ca%20href%3D%22mailt
 o%3Aelke.thumm%40gruene-gp.de%22%3Eelke.thumm%40gruene-gp.de%3C%2Fa%3E%3C
 %2Fli%3E%0A%0A%0A%0A%3Cli%3ENiels%20D%C3%BCrrmeier%3A%20%3Ca%20href%3D%22
 http%3A%2F%2Fniels%20duerrmeier%40gruene-gp.de%22%3Eniels%20duerrmeier%40
 gruene-gp.de%3C%2Fa%3E%3C%2Fli%3E%0A%0A%0A%0A%3Cli%3ESven%20Hitzler%3A%20
 %3Ca%20href%3D%22mailto%3Asven.hitzler%40gruene-gp.de%22%3Esven.hitzler%4
 0gruene-gp.de%3C%2Fa%3E%3C%2Fli%3E%0A%3C%2Ful%3E%0A%0A%0A%0A%3Cp%3EBei%20
 Fragen%20oder%20Anregungen%20k%C3%B6nnt%20ihr%20unsere%20Delegierten%20ge
 rne%20kontaktieren.%3Cbr%3E%3C%2Fp%3E%0A%0A%0A%0A%3Cp%3E%3Cstrong%3EAllge
 meine%20Informationen%20zur%20LDK%3Cbr%3E%3C%2Fstrong%3EDie%26nbsp%3B%3Cs
 trong%3ELandesdelegiertenkonferenz%20%28LDK%29%3C%2Fstrong%3E%26nbsp%3B%E
 2%80%93%20der%20Landesparteitag%20%E2%80%93%20ist%20das%20oberste%20Organ
 %20des%20Landesverbandes%20und%20findet%20in%20allen%20L%C3%A4ndern%20min
 destens%20einmal%20im%20Jahr%20statt.%20Diese%20Versammlung%20ist%20das%2
 0wichtigste%20Entscheidungsgremium%20der%20Landesverb%C3%A4nde.%20Hier%20
 werden%20politische%20Entscheidungen%20f%C3%BCr%20die%20Landespolitik%20g
 etroffen%2C%20Landtagswahlprogramme%20beschlossen%20und%20Landesvorst%C3%
 A4nde%20gew%C3%A4hlt.%20Auch%20die%20Kandidat%2Ainnen%20f%C3%BCr%20die%20
 Bundestagswahl%20wie%20auch%20f%C3%BCr%20Landtagswahlen%20werden%20hier%2
 0gew%C3%A4hlt.%20Die%20Kreisverb%C3%A4nde%20entsenden%20entsprechender%20
 ihrer%20Mitgliedsanzahl%20Delegierte%2C%20die%20auf%20den%20LDKen%20dann%
 20abstimmen%20d%C3%BCrfen.%3C%2Fp%3E%0A%0A%0A%0A%3Cp%3E%3C%2Fp%3E%0A":Lan
 desdelegiertenkonferenz (LDK) am 09. Mai 2026 in Stuttgart.Weitere Inform
 ationen folgen.\n\nBei der KMV am 24.03.26 in Göppingen wurden folgende 
 Delegierte und Ersatzdelegierte für die Landesdelegiertenkonferenz gewä
 hlt:\n\nDelegierte\n\nMariska Ott: mariska.ott@gruene-gp.de\n\nHanna Stra
 ub: hanna.straub@gruene-gp.de\n\nJulian Beier: julian.beier@gruene-gp.de\
 n\nErsatzdelegierte\n\nMelanie Weber: melanie.weber@gruene-gp.de\n\nKatha
 rina Schütze: d-k-schuetze@arcor.de\n\nElke Thumm: elke.thumm@gruene-gp
 .de\n\nNiels Dürrmeier: niels duerrmeier@gruene-gp.de\n\nSven Hitzler: s
 ven.hitzler@gruene-gp.de\n\nBei Fragen oder Anregungen könnt ihr unsere 
 Delegierten gerne kontaktieren.\n\nAllgemeine Informationen zur LDKDie L
 andesdelegiertenkonferenz (LDK) – der Landesparteitag – ist das ober
 ste Organ des Landesverbandes und findet in allen Ländern mindestens ein
 mal im Jahr statt. Diese Versammlung ist das wichtigste Entscheidungsgrem
 ium der Landesverbände. Hier werden politische Entscheidungen für die L
 andespolitik getroffen\, Landtagswahlprogramme beschlossen und Landesvors
 tände gewählt. Auch die Kandidat*innen für die Bundestagswahl wie auch
  für Landtagswahlen werden hier gewählt. Die Kreisverbände entsenden e
 ntsprechender ihrer Mitgliedsanzahl Delegierte\, die auf den LDKen dann a
 bstimmen dürfen.
CLASS:PUBLIC
DTSTART;TZID=Europe/Berlin:20260509T000000
DTEND;TZID=Europe/Berlin:20260509T000000
DTSTAMP:20260421T012950
END:VEVENT
END:VCALENDAR