BEGIN:VCALENDAR
VERSION:2.0
PRODID:gruene-gp.de
METHOD:PUBLISH
BEGIN:VTIMEZONE
TZID:Europe/Berlin
X-LIC-LOCATION:Europe/Berlin
BEGIN:DAYLIGHT
TZOFFSETFROM:+0100
TZOFFSETTO:+0200
TZNAME:CEST
DTSTART:19700329T020000
RRULE:FREQ=YEARLY;INTERVAL=1;BYDAY=-1SU;BYMONTH=3
END:DAYLIGHT
BEGIN:STANDARD
TZOFFSETFROM:+0200
TZOFFSETTO:+0100
TZNAME:CET
DTSTART:19701025T030000
RRULE:FREQ=YEARLY;INTERVAL=1;BYDAY=-1SU;BYMONTH=10
END:STANDARD
END:VTIMEZONE
BEGIN:VEVENT
UID:d1706231481f3d96fbb8189ac5e2107a@gruene-gp.de
URL;VALUE=URI:https://gruene-gp.de/blog/termine/mesale-tolu-liest-aus-ihr
 em-buch/
LOCATION:Bad Boll, Altes Schulhaus
SUMMARY:„Mein Sohn bleibt bei mir!“ Mesale Tolu liest aus ihrem Buch
DESCRIPTION;ALTREP="data:text/html,":
CLASS:PUBLIC
DTSTART;TZID=Europe/Berlin:20190907T110000
DTEND;TZID=Europe/Berlin:20190907T120000
DTSTAMP:20260423T102615
END:VEVENT
END:VCALENDAR