BEGIN:VCALENDAR
VERSION:2.0
PRODID:gruene-gp.de
METHOD:PUBLISH
BEGIN:VTIMEZONE
TZID:Europe/Berlin
X-LIC-LOCATION:Europe/Berlin
BEGIN:DAYLIGHT
TZOFFSETFROM:+0100
TZOFFSETTO:+0200
TZNAME:CEST
DTSTART:19700329T020000
RRULE:FREQ=YEARLY;INTERVAL=1;BYDAY=-1SU;BYMONTH=3
END:DAYLIGHT
BEGIN:STANDARD
TZOFFSETFROM:+0200
TZOFFSETTO:+0100
TZNAME:CET
DTSTART:19701025T030000
RRULE:FREQ=YEARLY;INTERVAL=1;BYDAY=-1SU;BYMONTH=10
END:STANDARD
END:VTIMEZONE
BEGIN:VEVENT
UID:d0cd42225cc34f9e4e7a3166e69bba77@gruene-gp.de
URL;VALUE=URI:https://gruene-gp.de/blog/termine/neuer-vvs-tarif-berichten
 -sie-uns-ihre-erfahrungen/
LOCATION:Telefon
SUMMARY:Christine Lipp-Wahl und Viktoria Kruse: Neuer VVS-Tarif – Beric
 hten Sie uns Ihre Erfahrungen!
DESCRIPTION;ALTREP="data:text/html,%3Cstrong%3ENeuer%20VVS-Tarif%20%E2%80
 %93%20Berichten%20Sie%20uns%20Ihre%20Erfahrungen%21%3C%2Fstrong%3E%0D%0A%
 0D%0A%3Cstrong%3E19.2.%20von%208-17%20Uhr%3C%2Fstrong%3E%0D%0A%0D%0A%3Cim
 g%20class%3D%22%22%20src%3D%22https%3A%2F%2Fgruene-gp.de%2Fwp-content%2Fu
 ploads%2F2021%2F02%2FP21022-Fraktion-Gruene-Telefon-Aktionstag-Anzeige-GE
 PPO-JFu-V2-001.png%22%20width%3D%22438%22%20height%3D%22438%22%20%2F%3E%0
 D%0A%0D%0A%26nbsp%3B%0D%0A%0D%0ASeit%20dem%2001.%20Januar%20gilt%20der%20
 neue%20VVS-Tarif.%20Darauf%20haben%20wir%20Gr%C3%BCne%20auf%20den%20versc
 hiedenen%20Ebenen%20lange%20hingearbeitet.%20Nun%20m%C3%B6chten%20wir%20m
 it%20B%C3%BCrgerinnen%20und%20B%C3%BCrgern%20ins%20Gespr%C3%A4ch%20kommen
 %20und%20wollen%20wissen%2C%20ob%20alles%20rund%20l%C3%A4uft.%0D%0A%0D%0A
 Deshalb%20bieten%20%3Cstrong%3ELandtagsabgeordnete%20Christine%20Lipp-Wah
 l%20und%20Bundestagskandidatin%20Viktoria%20Kruse%3C%2Fstrong%3E%20am%201
 9.%20Februar%20ein%20pers%C3%B6nliches%20Gespr%C3%A4ch%20per%20Telefon%20
 an.%0D%0A%0D%0AVon%208-17%20Uhr%20kann%20man%20sich%20unter%2007161%20507
 9592%20und%2007161%205079852%20melden%20um%20Lob%20und%20Tadel%20los%20zu
 %20werden.%0D%0A%0D%0A%26nbsp%3B%0D%0A%0D%0A%26nbsp%3B%0D%0A%0D%0A%26nbsp
 %3B":Neuer VVS-Tarif – Berichten Sie uns Ihre Erfahrungen!\n\n19.2. von
  8-17 Uhr\n\n \n\nSeit dem 01. Januar gilt der neue VVS-Tarif. Darauf ha
 ben wir Grüne auf den verschiedenen Ebenen lange hingearbeitet. Nun möc
 hten wir mit Bürgerinnen und Bürgern ins Gespräch kommen und wollen wi
 ssen\, ob alles rund läuft.\n\nDeshalb bieten Landtagsabgeordnete Christ
 ine Lipp-Wahl und Bundestagskandidatin Viktoria Kruse am 19. Februar ein 
 persönliches Gespräch per Telefon an.\n\nVon 8-17 Uhr kann man sich unt
 er 07161 5079592 und 07161 5079852 melden um Lob und Tadel los zu werden.
 \n\n \n\n \n\n 
CLASS:PUBLIC
DTSTART;TZID=Europe/Berlin:20210219T080000
DTEND;TZID=Europe/Berlin:20210219T170000
DTSTAMP:20260421T095512
END:VEVENT
END:VCALENDAR