BEGIN:VCALENDAR
VERSION:2.0
PRODID:gruene-gp.de
METHOD:PUBLISH
BEGIN:VTIMEZONE
TZID:Europe/Berlin
X-LIC-LOCATION:Europe/Berlin
BEGIN:DAYLIGHT
TZOFFSETFROM:+0100
TZOFFSETTO:+0200
TZNAME:CEST
DTSTART:19700329T020000
RRULE:FREQ=YEARLY;INTERVAL=1;BYDAY=-1SU;BYMONTH=3
END:DAYLIGHT
BEGIN:STANDARD
TZOFFSETFROM:+0200
TZOFFSETTO:+0100
TZNAME:CET
DTSTART:19701025T030000
RRULE:FREQ=YEARLY;INTERVAL=1;BYDAY=-1SU;BYMONTH=10
END:STANDARD
END:VTIMEZONE
BEGIN:VEVENT
UID:99d02885f77d18ffff7a9109c2e09dbc@gruene-gp.de
URL;VALUE=URI:https://gruene-gp.de/blog/termine/prof-kesselring-zu-mobili
 taet-der-zukunft-gruener-stammtisch/
LOCATION:Küferstüble, Hauptstrasse 70, 73329 Kuchen
SUMMARY:Veranstaltungsreihe „Grüner Stammtisch“ mit Prof. Kesselring
  zum Thema Nachhaltige Mobilität
DESCRIPTION;ALTREP="data:text/html,%26nbsp%3B%0D%0A%0D%0A%3Cstrong%3EProf
 .%20Kesselring%20zu%20%22Mobilit%C3%A4t%20der%20Zukunft%22%3C%2Fstrong%3E
 %2C%20Gr%C3%BCner%20Stammtisch%0D%0A%0D%0AProfessor%20Kesselring%2C%20Mit
 glied%20des%20Klima-Sachverst%C3%A4ndigenrates%20der%20Landesregierung%2C
 %20lehrt%20und%20forscht%20an%20der%20HfWU%20N%C3%BCrtingen-Geislingen%20
 zum%20Thema%20nachhaltige%20Mobilit%C3%A4t.%20Als%20Sozialwissenschaftler
 %20ist%20es%20ihm%20ein%20Anliegen%2C%20die%20Transformation%20der%20Mobi
 lit%C3%A4t%20nicht%20nur%20den%20Ingenieuren%20zu%20%C3%BCberlassen.%20Th
 emen%20wie%20Technisierung%20und%20Digitalisierung%20der%20Mobilit%C3%A4t
 %20im%20privaten%20und%20beruflichen%20Alltag%20sind%20essentiell.%20Aber
 %20auch%20soziale%20Innovationen%20wie%20%22sharing%20im%20Quartier%22%20
 werden%20zu%20einer%20nachhaltigen%20zivilgesellschaftlichen%20Mobilit%C3
 %A4tskultur%20beitragen.%0D%0AHerr%20Kesselring%20wird%20in%20einem%20Vor
 trag%20sich%20und%20seine%20Arbeit%20an%20der%20HfWU%20und%20im%20Klimabe
 irat%20vorstellen%20und%20steht%20uns%20dann%20anschlie%C3%9Fend%20f%C3%B
 Cr%20Fragen%20und%20Diskussionen%20zur%20Verf%C3%BCgung.%0D%0ADurch%20den
 %20Abend%20f%C3%BChrt%20der%20Ortsvorsitzende%20Eckhart%20Klein.%0D%0A%0D
 %0A%26nbsp%3B%0D%0A%0D%0A%3Cimg%20class%3D%22%22%20src%3D%22https%3A%2F%2
 Fgruene-gp.de%2Fwp-content%2Fuploads%2F2022%2F05%2FKesselring.jpg%22%20wi
 dth%3D%22423%22%20height%3D%22221%22%20%2F%3E%0D%0A%0D%0A%26nbsp%3B": \n
 \nProf. Kesselring zu "Mobilität der Zukunft"\, Grüner Stammtisch\n\nPr
 ofessor Kesselring\, Mitglied des Klima-Sachverständigenrates der Landes
 regierung\, lehrt und forscht an der HfWU Nürtingen-Geislingen zum Thema
  nachhaltige Mobilität. Als Sozialwissenschaftler ist es ihm ein Anliege
 n\, die Transformation der Mobilität nicht nur den Ingenieuren zu überl
 assen. Themen wie Technisierung und Digitalisierung der Mobilität im pri
 vaten und beruflichen Alltag sind essentiell. Aber auch soziale Innovatio
 nen wie "sharing im Quartier" werden zu einer nachhaltigen zivilgesellsch
 aftlichen Mobilitätskultur beitragen.\n\nHerr Kesselring wird in einem V
 ortrag sich und seine Arbeit an der HfWU und im Klimabeirat vorstellen un
 d steht uns dann anschließend für Fragen und Diskussionen zur Verfügun
 g.\n\nDurch den Abend führt der Ortsvorsitzende Eckhart Klein.\n\n \n\n
  
CLASS:PUBLIC
DTSTART;TZID=Europe/Berlin:20220623T193000
DTEND;TZID=Europe/Berlin:20220623T213000
DTSTAMP:20260421T000221
END:VEVENT
END:VCALENDAR