BEGIN:VCALENDAR
VERSION:2.0
PRODID:gruene-gp.de
METHOD:PUBLISH
BEGIN:VTIMEZONE
TZID:Europe/Berlin
X-LIC-LOCATION:Europe/Berlin
BEGIN:DAYLIGHT
TZOFFSETFROM:+0100
TZOFFSETTO:+0200
TZNAME:CEST
DTSTART:19700329T020000
RRULE:FREQ=YEARLY;INTERVAL=1;BYDAY=-1SU;BYMONTH=3
END:DAYLIGHT
BEGIN:STANDARD
TZOFFSETFROM:+0200
TZOFFSETTO:+0100
TZNAME:CET
DTSTART:19701025T030000
RRULE:FREQ=YEARLY;INTERVAL=1;BYDAY=-1SU;BYMONTH=10
END:STANDARD
END:VTIMEZONE
BEGIN:VEVENT
UID:55eae61f9a225cde8f1734b52a6909bb@gruene-gp.de
URL;VALUE=URI:https://gruene-gp.de/blog/termine/seminar-lust-auf-kommunal
 politik-am-21-10-23/
LOCATION:Bürgerhaus Kirchstraße 11, 73033 Göppingen
SUMMARY:Achtung Raumänderung für das Seminar: Lust auf Kommunalpolitik?
 ! am 21.10.23
DESCRIPTION;ALTREP="data:text/html,%3Cem%3EDas%20Seminar%20findet%20%3Cst
 rong%3Eim%20B%C3%BCrgerhaus%20G%C3%B6ppingen%20in%20der%20Kirchstra%C3%9F
 e%2011%20%3C%2Fstrong%3Estatt%20%28nicht%20wie%20urspr%C3%BCnglich%20gepl
 ant%20in%20der%20Kreisgesch%C3%A4ftsstelle%29.%3C%2Fem%3E%0D%0A%0D%0ADu%2
 0bist%20der%20Meinung%2C%20dass%20Demokratie%20vom%20Mitmachen%20lebt%3F%
 20Du%20willst%20mitentscheiden%20und%20die%20Politik%20in%20deinem%20Geme
 inderat%20oder%20Kreistag%20mitgestalten%2C%20bist%20aber%20noch%20unschl
 %C3%BCssig%2C%20weil%20du%20viele%20unbeantwortete%20Fragen%20hast%3F%20D
 ann%20meldet%20dich%20zum%20GAR-Seminar%20Lust%20auf%20Kommunalpolitik%3F
 %21%20an.%20Das%20Seminar%20kann%20auch%20von%20Personen%20besucht%20werd
 en%2C%20die%20nicht%20Parteimitglied%20sind%2C%20sich%20aber%20f%C3%BCr%2
 0gr%C3%BCne%20Politik%20stark%20machen%20m%C3%B6chten.%20Reiche%20die%20E
 inladung%20also%20gerne%20an%20Personen%20weiter%2C%20auf%20die%20das%20z
 utrifft.%20Auch%20f%C3%BCr%20Erfahrene%2C%20die%20andere%20f%C3%BCr%20die
 %20Kommunalpolitik%20gewinnen%20m%C3%B6chten%2C%20gibt%20es%20Anregungen.
 %20Seminarleiter%20ist%20Alexander%20Schenk%2C%20Gesch%C3%A4ftsf%C3%BChre
 r%20der%20GAR.%0D%0A%0D%0A%3Cstrong%3EWann%3A%3C%2Fstrong%3E%2021.10.%20v
 on%2010%3A00%20Uhr%20bis%2015%3A00%20Uhr%0D%0A%3Cstrong%3EWo%3A%3C%2Fstro
 ng%3E%20B%C3%BCrgerhaus%20Kirchstra%C3%9Fe%2011%0D%0A%3Cstrong%3EAnmeldun
 g%3A%3C%2Fstrong%3E%20Bitte%20meldet%20euch%20bis%20zum%2001.10.%20unter%
 20%3Ca%20href%3D%22mailto%3Ainfo%40gruene-gp.de%22%3Einfo%40gruene-gp.de%
 3C%2Fa%3E%20an.%0D%0A%0D%0A%3Cstrong%3EZum%20Programm%3A%3C%2Fstrong%3E%0
 D%0A%0D%0A%3Cstrong%3E10-12h%3A%20Warum%20soll%20ich%20in%20die%20Kommuna
 lpolitik%3F%20Was%20kann%20ich%20konkret%20bewegen%3F%3C%2Fstrong%3E%0D%0
 A%3Cul%3E%0D%0A%20%09%3Cli%3EWelche%20politischen%20Themen%20werden%20beh
 andelt%3F%3C%2Fli%3E%0D%0A%20%09%3Cli%3EWelche%20Gesellschaft%20bilden%20
 unsere%20Gemeinder%C3%A4te%20und%20Kreistage%20ab%3F%3C%2Fli%3E%0D%0A%20%
 09%3Cli%3EWie%20kann%20ich%20Menschen%20motivieren%20bei%20der%20Stange%2
 0zu%20bleiben%20oder%20in%20die%20kommunalpolitische%20Arbeit%20einzustei
 gen%3F%3C%2Fli%3E%0D%0A%3C%2Ful%3E%0D%0A%3Cstrong%3E12h%2013h%3A%20Gemein
 sames%20Mittagessen%20im%20B%C3%BCrgerhaus%3C%2Fstrong%3E%0D%0A%0D%0A%3Cs
 trong%3E13h-15h%3A%20Wie%20funktioniert%20Kommunalpolitik%3F%3C%2Fstrong%
 3E%0D%0A%3Cul%3E%0D%0A%20%09%3Cli%3EAbl%C3%A4ufe%20und%20Antragsverfahren
 %3C%2Fli%3E%0D%0A%20%09%3Cli%3EWie%20greifen%20politische%20Ebenen%20inei
 nander%3F%3C%2Fli%3E%0D%0A%20%09%3Cli%3EBeteiligungsformate%20innerhalb%2
 0und%20au%C3%9Ferhalb%20der%20Gremien%3C%2Fli%3E%0D%0A%3C%2Ful%3E%0D%0A%2
 6nbsp%3B%0D%0A%0D%0A%3Cstrong%3EDer%20Referent%20Alexander%20Schenk%3A%3C
 %2Fstrong%3E%0D%0A%0D%0AAlexander%20Schenk%20ist%20seit%20Juni%202019%20G
 esch%C3%A4ftsf%C3%BChrer%20der%20GAR.%20Als%20Stadtrat%20und%20Gr%C3%BCne
 n-Kreisvorsitzender%20konnte%20er%20langj%C3%A4hrige%20Erfahrungen%20mit%
 20politischen%20Ehren%C3%A4mtern%20sammeln%3A%20sowohl%20in%20Parteigremi
 en%20als%20auch%20in%20kommunalen%20Gremien%20wie%20im%20Rat%20seiner%20H
 eimatstadt%20Schw%C3%A4bisch%20Gm%C3%BCnd%2C%20in%20der%20Regionalversamm
 lung%20oder%20in%20verschiedenen%20Aufsichtsr%C3%A4ten.%20Alexander%20Sch
 enk%20ist%20dreifacher%20Vater%2C%20studierter%20Diplom-Betriebswirt%20un
 d%20hat%2014%20Jahre%20in%20einer%20Steuerberaterkanzlei%20gearbeitet.%0D
 %0A%0D%0A%3Cstrong%3EDie%20GAR%20BW%20%3C%2Fstrong%3Eist%20die%20kommunal
 politische%20Vereinigung%20von%20B%C3%BCndnis%2090%2FDie%20Gr%C3%BCnen%20
 in%20Baden-W%C3%BCrttemberg.%20Die%20Gr%C3%BCnen%20und%20Alternativen%20i
 n%20den%20R%C3%A4ten%20sind%20ein%20Netz%20von%20Kommunalpolitiker%2Ainne
 n%20im%20Land%20und%20mitgliedschaftlich%20organisiert.%20Die%20GAR%20BW%
 20ber%C3%A4t%20und%20unterst%C3%BCtzt%20ihre%20Mitglieder%20Informationen
 %2C%20Tipps%20f%C3%BCr%20die%20Ratsarbeit%2C%20Rechtsausk%C3%BCnfte%20zur
 %20Gemeindeordnung%20und%20Seminaren.%0D%0A%0D%0A%26nbsp%3B":Das Seminar 
 findet im Bürgerhaus Göppingen in der Kirchstraße 11 statt (nicht wie 
 ursprünglich geplant in der Kreisgeschäftsstelle).\n\nDu bist der Meinu
 ng\, dass Demokratie vom Mitmachen lebt? Du willst mitentscheiden und die
  Politik in deinem Gemeinderat oder Kreistag mitgestalten\, bist aber noc
 h unschlüssig\, weil du viele unbeantwortete Fragen hast? Dann meldet di
 ch zum GAR-Seminar Lust auf Kommunalpolitik?! an. Das Seminar kann auch v
 on Personen besucht werden\, die nicht Parteimitglied sind\, sich aber f
 ür grüne Politik stark machen möchten. Reiche die Einladung also gerne
  an Personen weiter\, auf die das zutrifft. Auch für Erfahrene\, die and
 ere für die Kommunalpolitik gewinnen möchten\, gibt es Anregungen. Semi
 narleiter ist Alexander Schenk\, Geschäftsführer der GAR.\n\nWann: 21.1
 0. von 10:00 Uhr bis 15:00 Uhr\n\nWo: Bürgerhaus Kirchstraße 11\n\nAnme
 ldung: Bitte meldet euch bis zum 01.10. unter info@gruene-gp.de an.\n\nZu
 m Programm:\n\n10-12h: Warum soll ich in die Kommunalpolitik? Was kann ic
 h konkret bewegen?\n\n 	Welche politischen Themen werden behandelt?\n\n 	
 Welche Gesellschaft bilden unsere Gemeinderäte und Kreistage ab?\n\n 	Wi
 e kann ich Menschen motivieren bei der Stange zu bleiben oder in die komm
 unalpolitische Arbeit einzusteigen?\n\n12h 13h: Gemeinsames Mittagessen i
 m Bürgerhaus\n\n13h-15h: Wie funktioniert Kommunalpolitik?\n\n 	Abläufe
  und Antragsverfahren\n\n 	Wie greifen politische Ebenen ineinander?\n\n 
 	Beteiligungsformate innerhalb und außerhalb der Gremien\n\n \n\nDer Re
 ferent Alexander Schenk:\n\nAlexander Schenk ist seit Juni 2019 Geschäft
 sführer der GAR. Als Stadtrat und Grünen-Kreisvorsitzender konnte er la
 ngjährige Erfahrungen mit politischen Ehrenämtern sammeln: sowohl in Pa
 rteigremien als auch in kommunalen Gremien wie im Rat seiner Heimatstadt 
 Schwäbisch Gmünd\, in der Regionalversammlung oder in verschiedenen Auf
 sichtsräten. Alexander Schenk ist dreifacher Vater\, studierter Diplom-B
 etriebswirt und hat 14 Jahre in einer Steuerberaterkanzlei gearbeitet.\n\
 nDie GAR BW ist die kommunalpolitische Vereinigung von Bündnis 90/Die Gr
 ünen in Baden-Württemberg. Die Grünen und Alternativen in den Räten s
 ind ein Netz von Kommunalpolitiker*innen im Land und mitgliedschaftlich o
 rganisiert. Die GAR BW berät und unterstützt ihre Mitglieder Informatio
 nen\, Tipps für die Ratsarbeit\, Rechtsauskünfte zur Gemeindeordnung un
 d Seminaren.\n\n 
CLASS:PUBLIC
DTSTART;TZID=Europe/Berlin:20231021T100000
DTEND;TZID=Europe/Berlin:20231021T150000
DTSTAMP:20260420T195851
END:VEVENT
END:VCALENDAR