BEGIN:VCALENDAR
VERSION:2.0
PRODID:gruene-gp.de
METHOD:PUBLISH
BEGIN:VTIMEZONE
TZID:Europe/Berlin
X-LIC-LOCATION:Europe/Berlin
BEGIN:DAYLIGHT
TZOFFSETFROM:+0100
TZOFFSETTO:+0200
TZNAME:CEST
DTSTART:19700329T020000
RRULE:FREQ=YEARLY;INTERVAL=1;BYDAY=-1SU;BYMONTH=3
END:DAYLIGHT
BEGIN:STANDARD
TZOFFSETFROM:+0200
TZOFFSETTO:+0100
TZNAME:CET
DTSTART:19701025T030000
RRULE:FREQ=YEARLY;INTERVAL=1;BYDAY=-1SU;BYMONTH=10
END:STANDARD
END:VTIMEZONE
BEGIN:VEVENT
UID:7a74f120f20aecf5ad3178b5cb87b222@gruene-gp.de
URL;VALUE=URI:https://gruene-gp.de/blog/termine/stadtfest-in-goeppingen-u
 nd-wir-sind-dabei/
LOCATION:Schlossplatz 4, 73033 Göppingen
SUMMARY:Stadtfest in Göppingen und wir sind dabei
DESCRIPTION;ALTREP="data:text/html,%3Cspan%20class%3D%22aacl%22%3EVom%209
 .-11.9%20findet%20in%20G%C3%B6ppingen%20das%20Stadtfest%20statt%2C%20an%2
 0dem%20seit%2037%20Jahren%20Vereine%2C%20Gastronomen%20und%20Parteien%20w
 ie%20wir%2C%20mit%20den%20G%C3%B6ppinger%2Ainnen%20ins%20Gespr%C3%A4ch%20
 kommen.%20%3C%2Fspan%3E%0D%0A%3Cspan%20class%3D%22aacl%22%3EAuch%20dieses
 %20Jahr%20sind%20wir%20wieder%20mit%20dabei%20und%20bieten%20euch%20an%20
 unserem%20Stand%2C%20direkt%20vor%20unserer%20Kreisgesch%C3%A4ftsstelle%2
 0am%20Schlossplatz%2C%20neben%20alkoholfreien%20Cocktails%20und%20Bio%C3%
 A4pfeln%20auch%20ein%20musikalisches%20Programm%20an.%3C%2Fspan%3E%0D%0A%
 0D%0A%3Cspan%20class%3D%22aacl%22%3EAm%20Freitag%20%2819%3A45%20Uhr%29%20
 und%20Sonntag%20%2813%3A00%20Uhr%29%20k%C3%B6nnt%20ihr%20unserer%20Gr%C3%
 BCnen%20Band%2C%20mit%20wechselnder%20Besetzung%2C%20zuh%C3%B6ren%2C%20od
 er%20euch%20am%20Samstag%2C%20w%C3%A4hrend%20unserer%20Happy%20Hour%20%28
 13%3A30-15%20Uhr%29%2C%20mit%20unseren%20Mandats-Tr%C3%A4ger%2Ainnen%20un
 terhalten.%20%3C%2Fspan%3E%0D%0A%0D%0A%3Cspan%20class%3D%22aacl%22%3EWir%
 20freuen%20uns%20schon%20auf%20euren%20Besuch%21%3C%2Fspan%3E%0D%0A%0D%0A
 %3Cimg%20class%3D%22%22%20src%3D%22https%3A%2F%2Fgruene-gp.de%2Fwp-conten
 t%2Fuploads%2F2022%2F09%2FStadtfest-Facebook-002.png%22%20width%3D%22686%
 22%20height%3D%22451%22%20%2F%3E":Vom 9.-11.9 findet in Göppingen das St
 adtfest statt\, an dem seit 37 Jahren Vereine\, Gastronomen und Parteien 
 wie wir\, mit den Göppinger*innen ins Gespräch kommen.\n\nAuch dieses J
 ahr sind wir wieder mit dabei und bieten euch an unserem Stand\, direkt v
 or unserer Kreisgeschäftsstelle am Schlossplatz\, neben alkoholfreien Co
 cktails und Bioäpfeln auch ein musikalisches Programm an.\n\nAm Freitag 
 (19:45 Uhr) und Sonntag (13:00 Uhr) könnt ihr unserer Grünen Band\, mit
  wechselnder Besetzung\, zuhören\, oder euch am Samstag\, während unser
 er Happy Hour (13:30-15 Uhr)\, mit unseren Mandats-Träger*innen unterhal
 ten.\n\nWir freuen uns schon auf euren Besuch!
CLASS:PUBLIC
DTSTART;TZID=Europe/Berlin:20220909T233000
DTEND;TZID=Europe/Berlin:20220911T000000
DTSTAMP:20260421T095647
END:VEVENT
END:VCALENDAR