BEGIN:VCALENDAR
VERSION:2.0
PRODID:gruene-gp.de
METHOD:PUBLISH
BEGIN:VTIMEZONE
TZID:Europe/Berlin
X-LIC-LOCATION:Europe/Berlin
BEGIN:DAYLIGHT
TZOFFSETFROM:+0100
TZOFFSETTO:+0200
TZNAME:CEST
DTSTART:19700329T020000
RRULE:FREQ=YEARLY;INTERVAL=1;BYDAY=-1SU;BYMONTH=3
END:DAYLIGHT
BEGIN:STANDARD
TZOFFSETFROM:+0200
TZOFFSETTO:+0100
TZNAME:CET
DTSTART:19701025T030000
RRULE:FREQ=YEARLY;INTERVAL=1;BYDAY=-1SU;BYMONTH=10
END:STANDARD
END:VTIMEZONE
BEGIN:VEVENT
UID:f000e3c22db47d9ef539580d62d2ed54@gruene-gp.de
URL;VALUE=URI:https://gruene-gp.de/blog/termine/ukraine-benefiz-konzert-g
 roove-for-freedom2-open/
LOCATION:Schlossplatz , 73033 Göppingen
SUMMARY:Ukraine-Benefiz-Konzert Groove for freedom#2 open
DESCRIPTION;ALTREP="data:text/html,Am%3Cstrong%3E%20Freitag%2C%2008.07.20
 22%20%3C%2Fstrong%3Efindet%20das%20Ukraine-Benefiz-Konzert%20%3Cstrong%3E
 Groove%20for%20freedom%232%20%3C%2Fstrong%3Eopen%20air%20auf%20dem%20%3Cs
 trong%3ESchlossplatz%20in%20G%C3%B6ppingen%20%3C%2Fstrong%3Estatt.%20Mit%
 20dabei%20sind%20Olimpia%20%26amp%3B%20the%20Diners%20und%20Soulroom%2C%2
 0das%20Konzert%20beginnt%20um%20%3Cstrong%3E18%3A00%20Uhr%3C%2Fstrong%3E%
 0D%0A%0D%0ADer%20Eintritt%20ist%20frei%2C%20Spenden%20zugunsten%20der%20%
 22Hilfe%20f%C3%BCr%20vom%20Krieg%20Betroffene%22%20%C3%BCber%20das%20Diak
 onische%20Werk%20W%C3%BCrttemberg%20sind%20willkommen.%0D%0A%0D%0A%26nbsp
 %3B":Am Freitag\, 08.07.2022 findet das Ukraine-Benefiz-Konzert Groove fo
 r freedom#2 open air auf dem Schlossplatz in Göppingen statt. Mit dabei 
 sind Olimpia & the Diners und Soulroom\, das Konzert beginnt um 18:00 Uhr
 \n\nDer Eintritt ist frei\, Spenden zugunsten der "Hilfe für vom Krieg B
 etroffene" über das Diakonische Werk Württemberg sind willkommen.\n\n 
CLASS:PUBLIC
DTSTART;TZID=Europe/Berlin:20220708T180000
DTEND;TZID=Europe/Berlin:20220708T190000
DTSTAMP:20260420T100210
END:VEVENT
END:VCALENDAR